BEGIN:VCALENDAR
PRODID:-//GOV.MO//Public Holidays//EN
VERSION:2.0
CALSCALE:GREGORIAN
METHOD:PUBLISH
X-WR-CALNAME:msar_public_holidays_en
X-WR-TIMEZONE:Asia/Macau
X-WR-CALDESC:
BEGIN:VEVENT
DTSTART:20251231T160000Z
DTEND:20260101T160000Z
DTSTAMP:20260421T033904Z
UID:488
CLASS:PUBLIC
DESCRIPTION:
LAST-MODIFIED:20250423T071734Z
LOCATION:
ORGANIZER:
SEQUENCE:0
STATUS:CONFIRMED
SUMMARY:New Year’s Day (Obligatory holiday)
TRANSP:TRANSPARENT
X-MICROSOFT-CDO-ALLDAYEVENT:FALSE
X-MICROSOFT-CDO-BUSYSTATUS:FREE
X-MICROSOFT-CDO-IMPORTANCE:1
X-MICROSOFT-DISALLOW-COUNTER:FALSE
X-MS-OLK-AUTOFILLLOCATION:TRUE
X-MS-OLK-AUTOSTARTCHECK:FALSE
X-MS-OLK-CONFTYPE:0
END:VEVENT
BEGIN:VEVENT
DTSTART:20260216T063000Z
DTEND:20260216T094500Z
DTSTAMP:20260421T033904Z
UID:512
CLASS:PUBLIC
DESCRIPTION:
LAST-MODIFIED:20250423T072204Z
LOCATION:
ORGANIZER:
SEQUENCE:0
STATUS:CONFIRMED
SUMMARY:Lunar New Year\'s Eve (Exemption from work)
TRANSP:TRANSPARENT
X-MICROSOFT-CDO-ALLDAYEVENT:FALSE
X-MICROSOFT-CDO-BUSYSTATUS:FREE
X-MICROSOFT-CDO-IMPORTANCE:1
X-MICROSOFT-DISALLOW-COUNTER:FALSE
X-MS-OLK-AUTOFILLLOCATION:TRUE
X-MS-OLK-AUTOSTARTCHECK:FALSE
X-MS-OLK-CONFTYPE:0
END:VEVENT
BEGIN:VEVENT
DTSTART:20260216T160000Z
DTEND:20260217T160000Z
DTSTAMP:20260421T033904Z
UID:489
CLASS:PUBLIC
DESCRIPTION:
LAST-MODIFIED:20250423T072326Z
LOCATION:
ORGANIZER:
SEQUENCE:0
STATUS:CONFIRMED
SUMMARY:Lunar New Year\'s Day (Obligatory holiday)
TRANSP:TRANSPARENT
X-MICROSOFT-CDO-ALLDAYEVENT:FALSE
X-MICROSOFT-CDO-BUSYSTATUS:FREE
X-MICROSOFT-CDO-IMPORTANCE:1
X-MICROSOFT-DISALLOW-COUNTER:FALSE
X-MS-OLK-AUTOFILLLOCATION:TRUE
X-MS-OLK-AUTOSTARTCHECK:FALSE
X-MS-OLK-CONFTYPE:0
END:VEVENT
BEGIN:VEVENT
DTSTART:20260217T160000Z
DTEND:20260218T160000Z
DTSTAMP:20260421T033904Z
UID:490
CLASS:PUBLIC
DESCRIPTION:
LAST-MODIFIED:20250423T072610Z
LOCATION:
ORGANIZER:
SEQUENCE:0
STATUS:CONFIRMED
SUMMARY:The second day of the Lunar New Year (Obligatory holiday)
TRANSP:TRANSPARENT
X-MICROSOFT-CDO-ALLDAYEVENT:FALSE
X-MICROSOFT-CDO-BUSYSTATUS:FREE
X-MICROSOFT-CDO-IMPORTANCE:1
X-MICROSOFT-DISALLOW-COUNTER:FALSE
X-MS-OLK-AUTOFILLLOCATION:TRUE
X-MS-OLK-AUTOSTARTCHECK:FALSE
X-MS-OLK-CONFTYPE:0
END:VEVENT
BEGIN:VEVENT
DTSTART:20260218T160000Z
DTEND:20260219T160000Z
DTSTAMP:20260421T033904Z
UID:491
CLASS:PUBLIC
DESCRIPTION:
LAST-MODIFIED:20250423T072646Z
LOCATION:
ORGANIZER:
SEQUENCE:0
STATUS:CONFIRMED
SUMMARY:The third day of the Lunar New Year (Obligatory holiday)
TRANSP:TRANSPARENT
X-MICROSOFT-CDO-ALLDAYEVENT:FALSE
X-MICROSOFT-CDO-BUSYSTATUS:FREE
X-MICROSOFT-CDO-IMPORTANCE:1
X-MICROSOFT-DISALLOW-COUNTER:FALSE
X-MS-OLK-AUTOFILLLOCATION:TRUE
X-MS-OLK-AUTOSTARTCHECK:FALSE
X-MS-OLK-CONFTYPE:0
END:VEVENT
BEGIN:VEVENT
DTSTART:20260402T160000Z
DTEND:20260403T160000Z
DTSTAMP:20260421T033904Z
UID:493
CLASS:PUBLIC
DESCRIPTION:
LAST-MODIFIED:20250423T072955Z
LOCATION:
ORGANIZER:
SEQUENCE:0
STATUS:CONFIRMED
SUMMARY:Good Friday (Public holiday)
TRANSP:TRANSPARENT
X-MICROSOFT-CDO-ALLDAYEVENT:FALSE
X-MICROSOFT-CDO-BUSYSTATUS:FREE
X-MICROSOFT-CDO-IMPORTANCE:1
X-MICROSOFT-DISALLOW-COUNTER:FALSE
X-MS-OLK-AUTOFILLLOCATION:TRUE
X-MS-OLK-AUTOSTARTCHECK:FALSE
X-MS-OLK-CONFTYPE:0
END:VEVENT
BEGIN:VEVENT
DTSTART:20260403T160000Z
DTEND:20260404T160000Z
DTSTAMP:20260421T033904Z
UID:494
CLASS:PUBLIC
DESCRIPTION:
LAST-MODIFIED:20250423T073018Z
LOCATION:
ORGANIZER:
SEQUENCE:0
STATUS:CONFIRMED
SUMMARY:The Day before Easter (Public holiday)
TRANSP:TRANSPARENT
X-MICROSOFT-CDO-ALLDAYEVENT:FALSE
X-MICROSOFT-CDO-BUSYSTATUS:FREE
X-MICROSOFT-CDO-IMPORTANCE:1
X-MICROSOFT-DISALLOW-COUNTER:FALSE
X-MS-OLK-AUTOFILLLOCATION:TRUE
X-MS-OLK-AUTOSTARTCHECK:FALSE
X-MS-OLK-CONFTYPE:0
END:VEVENT
BEGIN:VEVENT
DTSTART:20260404T160000Z
DTEND:20260405T160000Z
DTSTAMP:20260421T033904Z
UID:492
CLASS:PUBLIC
DESCRIPTION:
LAST-MODIFIED:20250423T073100Z
LOCATION:
ORGANIZER:
SEQUENCE:0
STATUS:CONFIRMED
SUMMARY:Cheng Ming Festival (Obligatory holiday)
TRANSP:TRANSPARENT
X-MICROSOFT-CDO-ALLDAYEVENT:FALSE
X-MICROSOFT-CDO-BUSYSTATUS:FREE
X-MICROSOFT-CDO-IMPORTANCE:1
X-MICROSOFT-DISALLOW-COUNTER:FALSE
X-MS-OLK-AUTOFILLLOCATION:TRUE
X-MS-OLK-AUTOSTARTCHECK:FALSE
X-MS-OLK-CONFTYPE:0
END:VEVENT
BEGIN:VEVENT
DTSTART:20260405T160000Z
DTEND:20260406T160000Z
DTSTAMP:20260421T033904Z
UID:495
CLASS:PUBLIC
DESCRIPTION:
LAST-MODIFIED:20250423T073138Z
LOCATION:
ORGANIZER:
SEQUENCE:0
STATUS:CONFIRMED
SUMMARY:Compensatory rest day for the Day before Easter (Compensatory rest day)
TRANSP:TRANSPARENT
X-MICROSOFT-CDO-ALLDAYEVENT:FALSE
X-MICROSOFT-CDO-BUSYSTATUS:FREE
X-MICROSOFT-CDO-IMPORTANCE:1
X-MICROSOFT-DISALLOW-COUNTER:FALSE
X-MS-OLK-AUTOFILLLOCATION:TRUE
X-MS-OLK-AUTOSTARTCHECK:FALSE
X-MS-OLK-CONFTYPE:0
END:VEVENT
BEGIN:VEVENT
DTSTART:20260406T160000Z
DTEND:20260407T160000Z
DTSTAMP:20260421T033904Z
UID:518
CLASS:PUBLIC
DESCRIPTION:
LAST-MODIFIED:20250423T073606Z
LOCATION:
ORGANIZER:
SEQUENCE:0
STATUS:CONFIRMED
SUMMARY:Compensatory rest day for Cheng Ming Festival (Compensatory rest day)
TRANSP:TRANSPARENT
X-MICROSOFT-CDO-ALLDAYEVENT:FALSE
X-MICROSOFT-CDO-BUSYSTATUS:FREE
X-MICROSOFT-CDO-IMPORTANCE:1
X-MICROSOFT-DISALLOW-COUNTER:FALSE
X-MS-OLK-AUTOFILLLOCATION:TRUE
X-MS-OLK-AUTOSTARTCHECK:FALSE
X-MS-OLK-CONFTYPE:0
END:VEVENT
BEGIN:VEVENT
DTSTART:20260430T160000Z
DTEND:20260501T160000Z
DTSTAMP:20260421T033904Z
UID:496
CLASS:PUBLIC
DESCRIPTION:
LAST-MODIFIED:20250423T071734Z
LOCATION:
ORGANIZER:
SEQUENCE:0
STATUS:CONFIRMED
SUMMARY:Labour Day (Obligatory holiday)
TRANSP:TRANSPARENT
X-MICROSOFT-CDO-ALLDAYEVENT:FALSE
X-MICROSOFT-CDO-BUSYSTATUS:FREE
X-MICROSOFT-CDO-IMPORTANCE:1
X-MICROSOFT-DISALLOW-COUNTER:FALSE
X-MS-OLK-AUTOFILLLOCATION:TRUE
X-MS-OLK-AUTOSTARTCHECK:FALSE
X-MS-OLK-CONFTYPE:0
END:VEVENT
BEGIN:VEVENT
DTSTART:20260523T160000Z
DTEND:20260524T160000Z
DTSTAMP:20260421T033904Z
UID:497
CLASS:PUBLIC
DESCRIPTION:
LAST-MODIFIED:20250423T073655Z
LOCATION:
ORGANIZER:
SEQUENCE:0
STATUS:CONFIRMED
SUMMARY:The Buddha’s Birthday (Feast of Buddha) (Public holiday)
TRANSP:TRANSPARENT
X-MICROSOFT-CDO-ALLDAYEVENT:FALSE
X-MICROSOFT-CDO-BUSYSTATUS:FREE
X-MICROSOFT-CDO-IMPORTANCE:1
X-MICROSOFT-DISALLOW-COUNTER:FALSE
X-MS-OLK-AUTOFILLLOCATION:TRUE
X-MS-OLK-AUTOSTARTCHECK:FALSE
X-MS-OLK-CONFTYPE:0
END:VEVENT
BEGIN:VEVENT
DTSTART:20260524T160000Z
DTEND:20260525T160000Z
DTSTAMP:20260421T033904Z
UID:487
CLASS:PUBLIC
DESCRIPTION:
LAST-MODIFIED:20250425T022927Z
LOCATION:
ORGANIZER:
SEQUENCE:0
STATUS:CONFIRMED
SUMMARY:Compensatory rest day for the Buddha’s Birthday (Feast of Buddha) (Compensatory rest day)
TRANSP:TRANSPARENT
X-MICROSOFT-CDO-ALLDAYEVENT:FALSE
X-MICROSOFT-CDO-BUSYSTATUS:FREE
X-MICROSOFT-CDO-IMPORTANCE:1
X-MICROSOFT-DISALLOW-COUNTER:FALSE
X-MS-OLK-AUTOFILLLOCATION:TRUE
X-MS-OLK-AUTOSTARTCHECK:FALSE
X-MS-OLK-CONFTYPE:0
END:VEVENT
BEGIN:VEVENT
DTSTART:20260618T160000Z
DTEND:20260619T160000Z
DTSTAMP:20260421T033904Z
UID:498
CLASS:PUBLIC
DESCRIPTION:
LAST-MODIFIED:20250423T073739Z
LOCATION:
ORGANIZER:
SEQUENCE:0
STATUS:CONFIRMED
SUMMARY:Tung Ng Festival (Dragon Boat Festival) (Public holiday)
TRANSP:TRANSPARENT
X-MICROSOFT-CDO-ALLDAYEVENT:FALSE
X-MICROSOFT-CDO-BUSYSTATUS:FREE
X-MICROSOFT-CDO-IMPORTANCE:1
X-MICROSOFT-DISALLOW-COUNTER:FALSE
X-MS-OLK-AUTOFILLLOCATION:TRUE
X-MS-OLK-AUTOSTARTCHECK:FALSE
X-MS-OLK-CONFTYPE:0
END:VEVENT
BEGIN:VEVENT
DTSTART:20260925T160000Z
DTEND:20260926T160000Z
DTSTAMP:20260421T033904Z
UID:499
CLASS:PUBLIC
DESCRIPTION:
LAST-MODIFIED:20250423T074101Z
LOCATION:
ORGANIZER:
SEQUENCE:0
STATUS:CONFIRMED
SUMMARY:The Day following Chong Chao (Mid-Autumn) Festival (Obligatory holiday)
TRANSP:TRANSPARENT
X-MICROSOFT-CDO-ALLDAYEVENT:FALSE
X-MICROSOFT-CDO-BUSYSTATUS:FREE
X-MICROSOFT-CDO-IMPORTANCE:1
X-MICROSOFT-DISALLOW-COUNTER:FALSE
X-MS-OLK-AUTOFILLLOCATION:TRUE
X-MS-OLK-AUTOSTARTCHECK:FALSE
X-MS-OLK-CONFTYPE:0
END:VEVENT
BEGIN:VEVENT
DTSTART:20260927T160000Z
DTEND:20260928T160000Z
DTSTAMP:20260421T033904Z
UID:511
CLASS:PUBLIC
DESCRIPTION:
LAST-MODIFIED:20250425T022945Z
LOCATION:
ORGANIZER:
SEQUENCE:0
STATUS:CONFIRMED
SUMMARY:Compensatory rest day for the Day following Chong Chao (Mid-Autumn) Festival (Compensatory rest day)
TRANSP:TRANSPARENT
X-MICROSOFT-CDO-ALLDAYEVENT:FALSE
X-MICROSOFT-CDO-BUSYSTATUS:FREE
X-MICROSOFT-CDO-IMPORTANCE:1
X-MICROSOFT-DISALLOW-COUNTER:FALSE
X-MS-OLK-AUTOFILLLOCATION:TRUE
X-MS-OLK-AUTOSTARTCHECK:FALSE
X-MS-OLK-CONFTYPE:0
END:VEVENT
BEGIN:VEVENT
DTSTART:20260930T160000Z
DTEND:20261001T160000Z
DTSTAMP:20260421T033904Z
UID:501
CLASS:PUBLIC
DESCRIPTION:
LAST-MODIFIED:20250423T071734Z
LOCATION:
ORGANIZER:
SEQUENCE:0
STATUS:CONFIRMED
SUMMARY:National Day of the People’s Republic of China (Obligatory holiday)
TRANSP:TRANSPARENT
X-MICROSOFT-CDO-ALLDAYEVENT:FALSE
X-MICROSOFT-CDO-BUSYSTATUS:FREE
X-MICROSOFT-CDO-IMPORTANCE:1
X-MICROSOFT-DISALLOW-COUNTER:FALSE
X-MS-OLK-AUTOFILLLOCATION:TRUE
X-MS-OLK-AUTOSTARTCHECK:FALSE
X-MS-OLK-CONFTYPE:0
END:VEVENT
BEGIN:VEVENT
DTSTART:20261001T160000Z
DTEND:20261002T160000Z
DTSTAMP:20260421T033904Z
UID:500
CLASS:PUBLIC
DESCRIPTION:
LAST-MODIFIED:20250423T071734Z
LOCATION:
ORGANIZER:
SEQUENCE:0
STATUS:CONFIRMED
SUMMARY:The Day following National Day of the People’s Republic of China (Public holiday)
TRANSP:TRANSPARENT
X-MICROSOFT-CDO-ALLDAYEVENT:FALSE
X-MICROSOFT-CDO-BUSYSTATUS:FREE
X-MICROSOFT-CDO-IMPORTANCE:1
X-MICROSOFT-DISALLOW-COUNTER:FALSE
X-MS-OLK-AUTOFILLLOCATION:TRUE
X-MS-OLK-AUTOSTARTCHECK:FALSE
X-MS-OLK-CONFTYPE:0
END:VEVENT
BEGIN:VEVENT
DTSTART:20261017T160000Z
DTEND:20261018T160000Z
DTSTAMP:20260421T033904Z
UID:503
CLASS:PUBLIC
DESCRIPTION:
LAST-MODIFIED:20250423T075140Z
LOCATION:
ORGANIZER:
SEQUENCE:0
STATUS:CONFIRMED
SUMMARY:Chong Yeung Festival (Festival of Ancestors) (Obligatory holiday)
TRANSP:TRANSPARENT
X-MICROSOFT-CDO-ALLDAYEVENT:FALSE
X-MICROSOFT-CDO-BUSYSTATUS:FREE
X-MICROSOFT-CDO-IMPORTANCE:1
X-MICROSOFT-DISALLOW-COUNTER:FALSE
X-MS-OLK-AUTOFILLLOCATION:TRUE
X-MS-OLK-AUTOSTARTCHECK:FALSE
X-MS-OLK-CONFTYPE:0
END:VEVENT
BEGIN:VEVENT
DTSTART:20261018T160000Z
DTEND:20261019T160000Z
DTSTAMP:20260421T033904Z
UID:509
CLASS:PUBLIC
DESCRIPTION:
LAST-MODIFIED:20250423T075409Z
LOCATION:
ORGANIZER:
SEQUENCE:0
STATUS:CONFIRMED
SUMMARY:Compensatory rest day for Chong Yeung Festival (Festival of Ancestors) (Compensatory rest day)
TRANSP:TRANSPARENT
X-MICROSOFT-CDO-ALLDAYEVENT:FALSE
X-MICROSOFT-CDO-BUSYSTATUS:FREE
X-MICROSOFT-CDO-IMPORTANCE:1
X-MICROSOFT-DISALLOW-COUNTER:FALSE
X-MS-OLK-AUTOFILLLOCATION:TRUE
X-MS-OLK-AUTOSTARTCHECK:FALSE
X-MS-OLK-CONFTYPE:0
END:VEVENT
BEGIN:VEVENT
DTSTART:20261101T160000Z
DTEND:20261102T160000Z
DTSTAMP:20260421T033904Z
UID:504
CLASS:PUBLIC
DESCRIPTION:
LAST-MODIFIED:20250423T071734Z
LOCATION:
ORGANIZER:
SEQUENCE:0
STATUS:CONFIRMED
SUMMARY:All Soul’s Day (Public holiday)
TRANSP:TRANSPARENT
X-MICROSOFT-CDO-ALLDAYEVENT:FALSE
X-MICROSOFT-CDO-BUSYSTATUS:FREE
X-MICROSOFT-CDO-IMPORTANCE:1
X-MICROSOFT-DISALLOW-COUNTER:FALSE
X-MS-OLK-AUTOFILLLOCATION:TRUE
X-MS-OLK-AUTOSTARTCHECK:FALSE
X-MS-OLK-CONFTYPE:0
END:VEVENT
BEGIN:VEVENT
DTSTART:20261207T160000Z
DTEND:20261208T160000Z
DTSTAMP:20260421T033904Z
UID:505
CLASS:PUBLIC
DESCRIPTION:
LAST-MODIFIED:20250423T071734Z
LOCATION:
ORGANIZER:
SEQUENCE:0
STATUS:CONFIRMED
SUMMARY:Feast of Immaculate Conception (Public holiday)
TRANSP:TRANSPARENT
X-MICROSOFT-CDO-ALLDAYEVENT:FALSE
X-MICROSOFT-CDO-BUSYSTATUS:FREE
X-MICROSOFT-CDO-IMPORTANCE:1
X-MICROSOFT-DISALLOW-COUNTER:FALSE
X-MS-OLK-AUTOFILLLOCATION:TRUE
X-MS-OLK-AUTOSTARTCHECK:FALSE
X-MS-OLK-CONFTYPE:0
END:VEVENT
BEGIN:VEVENT
DTSTART:20261219T160000Z
DTEND:20261220T160000Z
DTSTAMP:20260421T033904Z
UID:510
CLASS:PUBLIC
DESCRIPTION:
LAST-MODIFIED:20250423T071734Z
LOCATION:
ORGANIZER:
SEQUENCE:0
STATUS:CONFIRMED
SUMMARY:Macao S.A.R. Establishment Day (Obligatory holiday)
TRANSP:TRANSPARENT
X-MICROSOFT-CDO-ALLDAYEVENT:FALSE
X-MICROSOFT-CDO-BUSYSTATUS:FREE
X-MICROSOFT-CDO-IMPORTANCE:1
X-MICROSOFT-DISALLOW-COUNTER:FALSE
X-MS-OLK-AUTOFILLLOCATION:TRUE
X-MS-OLK-AUTOSTARTCHECK:FALSE
X-MS-OLK-CONFTYPE:0
END:VEVENT
BEGIN:VEVENT
DTSTART:20261220T160000Z
DTEND:20261221T160000Z
DTSTAMP:20260421T033904Z
UID:502
CLASS:PUBLIC
DESCRIPTION:
LAST-MODIFIED:20250423T075245Z
LOCATION:
ORGANIZER:
SEQUENCE:0
STATUS:CONFIRMED
SUMMARY:Compensatory rest day for Macao S.A.R. Establishment Day (Compensatory rest day)
TRANSP:TRANSPARENT
X-MICROSOFT-CDO-ALLDAYEVENT:FALSE
X-MICROSOFT-CDO-BUSYSTATUS:FREE
X-MICROSOFT-CDO-IMPORTANCE:1
X-MICROSOFT-DISALLOW-COUNTER:FALSE
X-MS-OLK-AUTOFILLLOCATION:TRUE
X-MS-OLK-AUTOSTARTCHECK:FALSE
X-MS-OLK-CONFTYPE:0
END:VEVENT
BEGIN:VEVENT
DTSTART:20261221T160000Z
DTEND:20261222T160000Z
DTSTAMP:20260421T033904Z
UID:506
CLASS:PUBLIC
DESCRIPTION:
LAST-MODIFIED:20250423T075216Z
LOCATION:
ORGANIZER:
SEQUENCE:0
STATUS:CONFIRMED
SUMMARY:Winter Solstice (Public holiday)
TRANSP:TRANSPARENT
X-MICROSOFT-CDO-ALLDAYEVENT:FALSE
X-MICROSOFT-CDO-BUSYSTATUS:FREE
X-MICROSOFT-CDO-IMPORTANCE:1
X-MICROSOFT-DISALLOW-COUNTER:FALSE
X-MS-OLK-AUTOFILLLOCATION:TRUE
X-MS-OLK-AUTOSTARTCHECK:FALSE
X-MS-OLK-CONFTYPE:0
END:VEVENT
BEGIN:VEVENT
DTSTART:20261223T160000Z
DTEND:20261224T160000Z
DTSTAMP:20260421T033904Z
UID:507
CLASS:PUBLIC
DESCRIPTION:
LAST-MODIFIED:20250423T071734Z
LOCATION:
ORGANIZER:
SEQUENCE:0
STATUS:CONFIRMED
SUMMARY:Christmas Eve (Public holiday)
TRANSP:TRANSPARENT
X-MICROSOFT-CDO-ALLDAYEVENT:FALSE
X-MICROSOFT-CDO-BUSYSTATUS:FREE
X-MICROSOFT-CDO-IMPORTANCE:1
X-MICROSOFT-DISALLOW-COUNTER:FALSE
X-MS-OLK-AUTOFILLLOCATION:TRUE
X-MS-OLK-AUTOSTARTCHECK:FALSE
X-MS-OLK-CONFTYPE:0
END:VEVENT
BEGIN:VEVENT
DTSTART:20261224T160000Z
DTEND:20261225T160000Z
DTSTAMP:20260421T033904Z
UID:508
CLASS:PUBLIC
DESCRIPTION:
LAST-MODIFIED:20250423T071734Z
LOCATION:
ORGANIZER:
SEQUENCE:0
STATUS:CONFIRMED
SUMMARY:Christmas Day (Public holiday)
TRANSP:TRANSPARENT
X-MICROSOFT-CDO-ALLDAYEVENT:FALSE
X-MICROSOFT-CDO-BUSYSTATUS:FREE
X-MICROSOFT-CDO-IMPORTANCE:1
X-MICROSOFT-DISALLOW-COUNTER:FALSE
X-MS-OLK-AUTOFILLLOCATION:TRUE
X-MS-OLK-AUTOSTARTCHECK:FALSE
X-MS-OLK-CONFTYPE:0
END:VEVENT
BEGIN:VEVENT
DTSTART:20261231T063000Z
DTEND:20261231T094500Z
DTSTAMP:20260421T033904Z
UID:513
CLASS:PUBLIC
DESCRIPTION:
LAST-MODIFIED:20250423T071734Z
LOCATION:
ORGANIZER:
SEQUENCE:0
STATUS:CONFIRMED
SUMMARY:New Year\'s Eve (Exemption from work)
TRANSP:TRANSPARENT
X-MICROSOFT-CDO-ALLDAYEVENT:FALSE
X-MICROSOFT-CDO-BUSYSTATUS:FREE
X-MICROSOFT-CDO-IMPORTANCE:1
X-MICROSOFT-DISALLOW-COUNTER:FALSE
X-MS-OLK-AUTOFILLLOCATION:TRUE
X-MS-OLK-AUTOSTARTCHECK:FALSE
X-MS-OLK-CONFTYPE:0
END:VEVENT
BEGIN:VEVENT
DTSTART:20241231T160000Z
DTEND:20250101T160000Z
DTSTAMP:20260421T033904Z
UID:459
CLASS:PUBLIC
DESCRIPTION:
LAST-MODIFIED:20240412T041930Z
LOCATION:
ORGANIZER:
SEQUENCE:0
STATUS:CONFIRMED
SUMMARY:New Year’s Day (Obligatory holiday)
TRANSP:TRANSPARENT
X-MICROSOFT-CDO-ALLDAYEVENT:FALSE
X-MICROSOFT-CDO-BUSYSTATUS:FREE
X-MICROSOFT-CDO-IMPORTANCE:1
X-MICROSOFT-DISALLOW-COUNTER:FALSE
X-MS-OLK-AUTOFILLLOCATION:TRUE
X-MS-OLK-AUTOSTARTCHECK:FALSE
X-MS-OLK-CONFTYPE:0
END:VEVENT
BEGIN:VEVENT
DTSTART:20250128T063000Z
DTEND:20250128T094500Z
DTSTAMP:20260421T033904Z
UID:485
CLASS:PUBLIC
DESCRIPTION:
LAST-MODIFIED:20241105T085324Z
LOCATION:
ORGANIZER:
SEQUENCE:0
STATUS:CONFIRMED
SUMMARY:Lunar New Year\'s Eve (Exemption from work)
TRANSP:TRANSPARENT
X-MICROSOFT-CDO-ALLDAYEVENT:FALSE
X-MICROSOFT-CDO-BUSYSTATUS:FREE
X-MICROSOFT-CDO-IMPORTANCE:1
X-MICROSOFT-DISALLOW-COUNTER:FALSE
X-MS-OLK-AUTOFILLLOCATION:TRUE
X-MS-OLK-AUTOSTARTCHECK:FALSE
X-MS-OLK-CONFTYPE:0
END:VEVENT
BEGIN:VEVENT
DTSTART:20250128T160000Z
DTEND:20250129T160000Z
DTSTAMP:20260421T033904Z
UID:460
CLASS:PUBLIC
DESCRIPTION:
LAST-MODIFIED:20240412T042618Z
LOCATION:
ORGANIZER:
SEQUENCE:0
STATUS:CONFIRMED
SUMMARY:Lunar New Year\'s Day (Obligatory holiday)
TRANSP:TRANSPARENT
X-MICROSOFT-CDO-ALLDAYEVENT:FALSE
X-MICROSOFT-CDO-BUSYSTATUS:FREE
X-MICROSOFT-CDO-IMPORTANCE:1
X-MICROSOFT-DISALLOW-COUNTER:FALSE
X-MS-OLK-AUTOFILLLOCATION:TRUE
X-MS-OLK-AUTOSTARTCHECK:FALSE
X-MS-OLK-CONFTYPE:0
END:VEVENT
BEGIN:VEVENT
DTSTART:20250129T160000Z
DTEND:20250130T160000Z
DTSTAMP:20260421T033904Z
UID:461
CLASS:PUBLIC
DESCRIPTION:
LAST-MODIFIED:20240412T042807Z
LOCATION:
ORGANIZER:
SEQUENCE:0
STATUS:CONFIRMED
SUMMARY:The second day of the Lunar New Year (Obligatory holiday)
TRANSP:TRANSPARENT
X-MICROSOFT-CDO-ALLDAYEVENT:FALSE
X-MICROSOFT-CDO-BUSYSTATUS:FREE
X-MICROSOFT-CDO-IMPORTANCE:1
X-MICROSOFT-DISALLOW-COUNTER:FALSE
X-MS-OLK-AUTOFILLLOCATION:TRUE
X-MS-OLK-AUTOSTARTCHECK:FALSE
X-MS-OLK-CONFTYPE:0
END:VEVENT
BEGIN:VEVENT
DTSTART:20250130T160000Z
DTEND:20250131T160000Z
DTSTAMP:20260421T033904Z
UID:462
CLASS:PUBLIC
DESCRIPTION:
LAST-MODIFIED:20240412T042923Z
LOCATION:
ORGANIZER:
SEQUENCE:0
STATUS:CONFIRMED
SUMMARY:The third day of the Lunar New Year (Obligatory holiday)
TRANSP:TRANSPARENT
X-MICROSOFT-CDO-ALLDAYEVENT:FALSE
X-MICROSOFT-CDO-BUSYSTATUS:FREE
X-MICROSOFT-CDO-IMPORTANCE:1
X-MICROSOFT-DISALLOW-COUNTER:FALSE
X-MS-OLK-AUTOFILLLOCATION:TRUE
X-MS-OLK-AUTOSTARTCHECK:FALSE
X-MS-OLK-CONFTYPE:0
END:VEVENT
BEGIN:VEVENT
DTSTART:20250403T160000Z
DTEND:20250404T160000Z
DTSTAMP:20260421T033904Z
UID:463
CLASS:PUBLIC
DESCRIPTION:
LAST-MODIFIED:20240412T043430Z
LOCATION:
ORGANIZER:
SEQUENCE:0
STATUS:CONFIRMED
SUMMARY:Cheng Ming Festival (Obligatory holiday)
TRANSP:TRANSPARENT
X-MICROSOFT-CDO-ALLDAYEVENT:FALSE
X-MICROSOFT-CDO-BUSYSTATUS:FREE
X-MICROSOFT-CDO-IMPORTANCE:1
X-MICROSOFT-DISALLOW-COUNTER:FALSE
X-MS-OLK-AUTOFILLLOCATION:TRUE
X-MS-OLK-AUTOSTARTCHECK:FALSE
X-MS-OLK-CONFTYPE:0
END:VEVENT
BEGIN:VEVENT
DTSTART:20250417T160000Z
DTEND:20250418T160000Z
DTSTAMP:20260421T033904Z
UID:464
CLASS:PUBLIC
DESCRIPTION:
LAST-MODIFIED:20240412T043245Z
LOCATION:
ORGANIZER:
SEQUENCE:0
STATUS:CONFIRMED
SUMMARY:Good Friday (Public holiday)
TRANSP:TRANSPARENT
X-MICROSOFT-CDO-ALLDAYEVENT:FALSE
X-MICROSOFT-CDO-BUSYSTATUS:FREE
X-MICROSOFT-CDO-IMPORTANCE:1
X-MICROSOFT-DISALLOW-COUNTER:FALSE
X-MS-OLK-AUTOFILLLOCATION:TRUE
X-MS-OLK-AUTOSTARTCHECK:FALSE
X-MS-OLK-CONFTYPE:0
END:VEVENT
BEGIN:VEVENT
DTSTART:20250418T160000Z
DTEND:20250419T160000Z
DTSTAMP:20260421T033904Z
UID:465
CLASS:PUBLIC
DESCRIPTION:
LAST-MODIFIED:20240412T043232Z
LOCATION:
ORGANIZER:
SEQUENCE:0
STATUS:CONFIRMED
SUMMARY:The Day before Easter (Public holiday)
TRANSP:TRANSPARENT
X-MICROSOFT-CDO-ALLDAYEVENT:FALSE
X-MICROSOFT-CDO-BUSYSTATUS:FREE
X-MICROSOFT-CDO-IMPORTANCE:1
X-MICROSOFT-DISALLOW-COUNTER:FALSE
X-MS-OLK-AUTOFILLLOCATION:TRUE
X-MS-OLK-AUTOSTARTCHECK:FALSE
X-MS-OLK-CONFTYPE:0
END:VEVENT
BEGIN:VEVENT
DTSTART:20250420T160000Z
DTEND:20250421T160000Z
DTSTAMP:20260421T033904Z
UID:466
CLASS:PUBLIC
DESCRIPTION:
LAST-MODIFIED:20240412T043333Z
LOCATION:
ORGANIZER:
SEQUENCE:0
STATUS:CONFIRMED
SUMMARY:Compensatory rest day for the Day before Easter (Compensatory rest day)
TRANSP:TRANSPARENT
X-MICROSOFT-CDO-ALLDAYEVENT:FALSE
X-MICROSOFT-CDO-BUSYSTATUS:FREE
X-MICROSOFT-CDO-IMPORTANCE:1
X-MICROSOFT-DISALLOW-COUNTER:FALSE
X-MS-OLK-AUTOFILLLOCATION:TRUE
X-MS-OLK-AUTOSTARTCHECK:FALSE
X-MS-OLK-CONFTYPE:0
END:VEVENT
BEGIN:VEVENT
DTSTART:20250430T160000Z
DTEND:20250501T160000Z
DTSTAMP:20260421T033904Z
UID:467
CLASS:PUBLIC
DESCRIPTION:
LAST-MODIFIED:20240412T041930Z
LOCATION:
ORGANIZER:
SEQUENCE:0
STATUS:CONFIRMED
SUMMARY:Labour Day (Obligatory holiday)
TRANSP:TRANSPARENT
X-MICROSOFT-CDO-ALLDAYEVENT:FALSE
X-MICROSOFT-CDO-BUSYSTATUS:FREE
X-MICROSOFT-CDO-IMPORTANCE:1
X-MICROSOFT-DISALLOW-COUNTER:FALSE
X-MS-OLK-AUTOFILLLOCATION:TRUE
X-MS-OLK-AUTOSTARTCHECK:FALSE
X-MS-OLK-CONFTYPE:0
END:VEVENT
BEGIN:VEVENT
DTSTART:20250504T160000Z
DTEND:20250505T160000Z
DTSTAMP:20260421T033904Z
UID:468
CLASS:PUBLIC
DESCRIPTION:
LAST-MODIFIED:20240412T043514Z
LOCATION:
ORGANIZER:
SEQUENCE:0
STATUS:CONFIRMED
SUMMARY:The Buddha’s Birthday (Feast of Buddha) (Public holiday)
TRANSP:TRANSPARENT
X-MICROSOFT-CDO-ALLDAYEVENT:FALSE
X-MICROSOFT-CDO-BUSYSTATUS:FREE
X-MICROSOFT-CDO-IMPORTANCE:1
X-MICROSOFT-DISALLOW-COUNTER:FALSE
X-MS-OLK-AUTOFILLLOCATION:TRUE
X-MS-OLK-AUTOSTARTCHECK:FALSE
X-MS-OLK-CONFTYPE:0
END:VEVENT
BEGIN:VEVENT
DTSTART:20250530T160000Z
DTEND:20250531T160000Z
DTSTAMP:20260421T033904Z
UID:469
CLASS:PUBLIC
DESCRIPTION:
LAST-MODIFIED:20240412T043704Z
LOCATION:
ORGANIZER:
SEQUENCE:0
STATUS:CONFIRMED
SUMMARY:Tung Ng Festival (Dragon Boat Festival) (Public holiday)
TRANSP:TRANSPARENT
X-MICROSOFT-CDO-ALLDAYEVENT:FALSE
X-MICROSOFT-CDO-BUSYSTATUS:FREE
X-MICROSOFT-CDO-IMPORTANCE:1
X-MICROSOFT-DISALLOW-COUNTER:FALSE
X-MS-OLK-AUTOFILLLOCATION:TRUE
X-MS-OLK-AUTOSTARTCHECK:FALSE
X-MS-OLK-CONFTYPE:0
END:VEVENT
BEGIN:VEVENT
DTSTART:20250601T160000Z
DTEND:20250602T160000Z
DTSTAMP:20260421T033904Z
UID:443
CLASS:PUBLIC
DESCRIPTION:
LAST-MODIFIED:20240412T045204Z
LOCATION:
ORGANIZER:
SEQUENCE:0
STATUS:CONFIRMED
SUMMARY:Compensatory rest day for Tung Ng Festival (Dragon Boat Festival) (Compensatory rest day)
TRANSP:TRANSPARENT
X-MICROSOFT-CDO-ALLDAYEVENT:FALSE
X-MICROSOFT-CDO-BUSYSTATUS:FREE
X-MICROSOFT-CDO-IMPORTANCE:1
X-MICROSOFT-DISALLOW-COUNTER:FALSE
X-MS-OLK-AUTOFILLLOCATION:TRUE
X-MS-OLK-AUTOSTARTCHECK:FALSE
X-MS-OLK-CONFTYPE:0
END:VEVENT
BEGIN:VEVENT
DTSTART:20250930T160000Z
DTEND:20251001T160000Z
DTSTAMP:20260421T033904Z
UID:472
CLASS:PUBLIC
DESCRIPTION:
LAST-MODIFIED:20240412T041930Z
LOCATION:
ORGANIZER:
SEQUENCE:0
STATUS:CONFIRMED
SUMMARY:National Day of the People’s Republic of China (Obligatory holiday)
TRANSP:TRANSPARENT
X-MICROSOFT-CDO-ALLDAYEVENT:FALSE
X-MICROSOFT-CDO-BUSYSTATUS:FREE
X-MICROSOFT-CDO-IMPORTANCE:1
X-MICROSOFT-DISALLOW-COUNTER:FALSE
X-MS-OLK-AUTOFILLLOCATION:TRUE
X-MS-OLK-AUTOSTARTCHECK:FALSE
X-MS-OLK-CONFTYPE:0
END:VEVENT
BEGIN:VEVENT
DTSTART:20251001T160000Z
DTEND:20251002T160000Z
DTSTAMP:20260421T033904Z
UID:471
CLASS:PUBLIC
DESCRIPTION:
LAST-MODIFIED:20240412T041930Z
LOCATION:
ORGANIZER:
SEQUENCE:0
STATUS:CONFIRMED
SUMMARY:The Day following National Day of the People’s Republic of China (Public holiday)
TRANSP:TRANSPARENT
X-MICROSOFT-CDO-ALLDAYEVENT:FALSE
X-MICROSOFT-CDO-BUSYSTATUS:FREE
X-MICROSOFT-CDO-IMPORTANCE:1
X-MICROSOFT-DISALLOW-COUNTER:FALSE
X-MS-OLK-AUTOFILLLOCATION:TRUE
X-MS-OLK-AUTOSTARTCHECK:FALSE
X-MS-OLK-CONFTYPE:0
END:VEVENT
BEGIN:VEVENT
DTSTART:20251006T160000Z
DTEND:20251007T160000Z
DTSTAMP:20260421T033904Z
UID:470
CLASS:PUBLIC
DESCRIPTION:
LAST-MODIFIED:20240412T045615Z
LOCATION:
ORGANIZER:
SEQUENCE:0
STATUS:CONFIRMED
SUMMARY:The Day following Chong Chao (Mid-Autumn) Festival (Obligatory holiday)
TRANSP:TRANSPARENT
X-MICROSOFT-CDO-ALLDAYEVENT:FALSE
X-MICROSOFT-CDO-BUSYSTATUS:FREE
X-MICROSOFT-CDO-IMPORTANCE:1
X-MICROSOFT-DISALLOW-COUNTER:FALSE
X-MS-OLK-AUTOFILLLOCATION:TRUE
X-MS-OLK-AUTOSTARTCHECK:FALSE
X-MS-OLK-CONFTYPE:0
END:VEVENT
BEGIN:VEVENT
DTSTART:20251028T160000Z
DTEND:20251029T160000Z
DTSTAMP:20260421T033904Z
UID:474
CLASS:PUBLIC
DESCRIPTION:
LAST-MODIFIED:20240412T045705Z
LOCATION:
ORGANIZER:
SEQUENCE:0
STATUS:CONFIRMED
SUMMARY:Chong Yeung Festival (Festival of Ancestors) (Obligatory holiday)
TRANSP:TRANSPARENT
X-MICROSOFT-CDO-ALLDAYEVENT:FALSE
X-MICROSOFT-CDO-BUSYSTATUS:FREE
X-MICROSOFT-CDO-IMPORTANCE:1
X-MICROSOFT-DISALLOW-COUNTER:FALSE
X-MS-OLK-AUTOFILLLOCATION:TRUE
X-MS-OLK-AUTOSTARTCHECK:FALSE
X-MS-OLK-CONFTYPE:0
END:VEVENT
BEGIN:VEVENT
DTSTART:20251101T160000Z
DTEND:20251102T160000Z
DTSTAMP:20260421T033904Z
UID:475
CLASS:PUBLIC
DESCRIPTION:
LAST-MODIFIED:20240412T041930Z
LOCATION:
ORGANIZER:
SEQUENCE:0
STATUS:CONFIRMED
SUMMARY:All Soul’s Day (Public holiday)
TRANSP:TRANSPARENT
X-MICROSOFT-CDO-ALLDAYEVENT:FALSE
X-MICROSOFT-CDO-BUSYSTATUS:FREE
X-MICROSOFT-CDO-IMPORTANCE:1
X-MICROSOFT-DISALLOW-COUNTER:FALSE
X-MS-OLK-AUTOFILLLOCATION:TRUE
X-MS-OLK-AUTOSTARTCHECK:FALSE
X-MS-OLK-CONFTYPE:0
END:VEVENT
BEGIN:VEVENT
DTSTART:20251102T160000Z
DTEND:20251103T160000Z
DTSTAMP:20260421T033904Z
UID:484
CLASS:PUBLIC
DESCRIPTION:
LAST-MODIFIED:20240412T045759Z
LOCATION:
ORGANIZER:
SEQUENCE:0
STATUS:CONFIRMED
SUMMARY:Compensatory rest day for All Soul’s Day (Compensatory rest day)
TRANSP:TRANSPARENT
X-MICROSOFT-CDO-ALLDAYEVENT:FALSE
X-MICROSOFT-CDO-BUSYSTATUS:FREE
X-MICROSOFT-CDO-IMPORTANCE:1
X-MICROSOFT-DISALLOW-COUNTER:FALSE
X-MS-OLK-AUTOFILLLOCATION:TRUE
X-MS-OLK-AUTOSTARTCHECK:FALSE
X-MS-OLK-CONFTYPE:0
END:VEVENT
BEGIN:VEVENT
DTSTART:20251207T160000Z
DTEND:20251208T160000Z
DTSTAMP:20260421T033904Z
UID:477
CLASS:PUBLIC
DESCRIPTION:
LAST-MODIFIED:20240412T041930Z
LOCATION:
ORGANIZER:
SEQUENCE:0
STATUS:CONFIRMED
SUMMARY:Feast of Immaculate Conception (Public holiday)
TRANSP:TRANSPARENT
X-MICROSOFT-CDO-ALLDAYEVENT:FALSE
X-MICROSOFT-CDO-BUSYSTATUS:FREE
X-MICROSOFT-CDO-IMPORTANCE:1
X-MICROSOFT-DISALLOW-COUNTER:FALSE
X-MS-OLK-AUTOFILLLOCATION:TRUE
X-MS-OLK-AUTOSTARTCHECK:FALSE
X-MS-OLK-CONFTYPE:0
END:VEVENT
BEGIN:VEVENT
DTSTART:20251219T160000Z
DTEND:20251220T160000Z
DTSTAMP:20260421T033904Z
UID:483
CLASS:PUBLIC
DESCRIPTION:
LAST-MODIFIED:20240412T041930Z
LOCATION:
ORGANIZER:
SEQUENCE:0
STATUS:CONFIRMED
SUMMARY:Macao S.A.R. Establishment Day (Obligatory holiday)
TRANSP:TRANSPARENT
X-MICROSOFT-CDO-ALLDAYEVENT:FALSE
X-MICROSOFT-CDO-BUSYSTATUS:FREE
X-MICROSOFT-CDO-IMPORTANCE:1
X-MICROSOFT-DISALLOW-COUNTER:FALSE
X-MS-OLK-AUTOFILLLOCATION:TRUE
X-MS-OLK-AUTOSTARTCHECK:FALSE
X-MS-OLK-CONFTYPE:0
END:VEVENT
BEGIN:VEVENT
DTSTART:20251220T160000Z
DTEND:20251221T160000Z
DTSTAMP:20260421T033904Z
UID:478
CLASS:PUBLIC
DESCRIPTION:
LAST-MODIFIED:20240412T041930Z
LOCATION:
ORGANIZER:
SEQUENCE:0
STATUS:CONFIRMED
SUMMARY:Winter Solstice (Public holiday)
TRANSP:TRANSPARENT
X-MICROSOFT-CDO-ALLDAYEVENT:FALSE
X-MICROSOFT-CDO-BUSYSTATUS:FREE
X-MICROSOFT-CDO-IMPORTANCE:1
X-MICROSOFT-DISALLOW-COUNTER:FALSE
X-MS-OLK-AUTOFILLLOCATION:TRUE
X-MS-OLK-AUTOSTARTCHECK:FALSE
X-MS-OLK-CONFTYPE:0
END:VEVENT
BEGIN:VEVENT
DTSTART:20251221T160000Z
DTEND:20251222T160000Z
DTSTAMP:20260421T033904Z
UID:473
CLASS:PUBLIC
DESCRIPTION:
LAST-MODIFIED:20240412T063712Z
LOCATION:
ORGANIZER:
SEQUENCE:0
STATUS:CONFIRMED
SUMMARY:Compensatory rest day for Macao S.A.R. Establishment Day (Compensatory rest day)
TRANSP:TRANSPARENT
X-MICROSOFT-CDO-ALLDAYEVENT:FALSE
X-MICROSOFT-CDO-BUSYSTATUS:FREE
X-MICROSOFT-CDO-IMPORTANCE:1
X-MICROSOFT-DISALLOW-COUNTER:FALSE
X-MS-OLK-AUTOFILLLOCATION:TRUE
X-MS-OLK-AUTOSTARTCHECK:FALSE
X-MS-OLK-CONFTYPE:0
END:VEVENT
BEGIN:VEVENT
DTSTART:20251222T160000Z
DTEND:20251223T160000Z
DTSTAMP:20260421T033904Z
UID:482
CLASS:PUBLIC
DESCRIPTION:
LAST-MODIFIED:20240412T041930Z
LOCATION:
ORGANIZER:
SEQUENCE:0
STATUS:CONFIRMED
SUMMARY:Compensatory rest day for Winter Solstice (Compensatory rest day)
TRANSP:TRANSPARENT
X-MICROSOFT-CDO-ALLDAYEVENT:FALSE
X-MICROSOFT-CDO-BUSYSTATUS:FREE
X-MICROSOFT-CDO-IMPORTANCE:1
X-MICROSOFT-DISALLOW-COUNTER:FALSE
X-MS-OLK-AUTOFILLLOCATION:TRUE
X-MS-OLK-AUTOSTARTCHECK:FALSE
X-MS-OLK-CONFTYPE:0
END:VEVENT
BEGIN:VEVENT
DTSTART:20251223T160000Z
DTEND:20251224T160000Z
DTSTAMP:20260421T033904Z
UID:480
CLASS:PUBLIC
DESCRIPTION:
LAST-MODIFIED:20240412T041930Z
LOCATION:
ORGANIZER:
SEQUENCE:0
STATUS:CONFIRMED
SUMMARY:Christmas Eve (Public holiday)
TRANSP:TRANSPARENT
X-MICROSOFT-CDO-ALLDAYEVENT:FALSE
X-MICROSOFT-CDO-BUSYSTATUS:FREE
X-MICROSOFT-CDO-IMPORTANCE:1
X-MICROSOFT-DISALLOW-COUNTER:FALSE
X-MS-OLK-AUTOFILLLOCATION:TRUE
X-MS-OLK-AUTOSTARTCHECK:FALSE
X-MS-OLK-CONFTYPE:0
END:VEVENT
BEGIN:VEVENT
DTSTART:20251224T160000Z
DTEND:20251225T160000Z
DTSTAMP:20260421T033904Z
UID:481
CLASS:PUBLIC
DESCRIPTION:
LAST-MODIFIED:20240412T041930Z
LOCATION:
ORGANIZER:
SEQUENCE:0
STATUS:CONFIRMED
SUMMARY:Christmas Day (Public holiday)
TRANSP:TRANSPARENT
X-MICROSOFT-CDO-ALLDAYEVENT:FALSE
X-MICROSOFT-CDO-BUSYSTATUS:FREE
X-MICROSOFT-CDO-IMPORTANCE:1
X-MICROSOFT-DISALLOW-COUNTER:FALSE
X-MS-OLK-AUTOFILLLOCATION:TRUE
X-MS-OLK-AUTOSTARTCHECK:FALSE
X-MS-OLK-CONFTYPE:0
END:VEVENT
BEGIN:VEVENT
DTSTART:20251231T063000Z
DTEND:20251231T094500Z
DTSTAMP:20260421T033904Z
UID:486
CLASS:PUBLIC
DESCRIPTION:
LAST-MODIFIED:20240412T041930Z
LOCATION:
ORGANIZER:
SEQUENCE:0
STATUS:CONFIRMED
SUMMARY:New Year\'s Eve (Exemption from work)
TRANSP:TRANSPARENT
X-MICROSOFT-CDO-ALLDAYEVENT:FALSE
X-MICROSOFT-CDO-BUSYSTATUS:FREE
X-MICROSOFT-CDO-IMPORTANCE:1
X-MICROSOFT-DISALLOW-COUNTER:FALSE
X-MS-OLK-AUTOFILLLOCATION:TRUE
X-MS-OLK-AUTOSTARTCHECK:FALSE
X-MS-OLK-CONFTYPE:0
END:VEVENT
END:VCALENDAR