BEGIN:VCALENDAR
PRODID:-//GOV.MO//Feriados Públicos//PT
VERSION:2.0
CALSCALE:GREGORIAN
METHOD:PUBLISH
X-WR-CALNAME:msar_public_holidays_pt
X-WR-TIMEZONE:Asia/Macau
X-WR-CALDESC:
BEGIN:VEVENT
DTSTART:20261231T160000Z
DTEND:20270101T160000Z
DTSTAMP:20260425T160628Z
UID:520
CLASS:PUBLIC
DESCRIPTION:
LAST-MODIFIED:20260417T075455Z
LOCATION:
ORGANIZER:
SEQUENCE:0
STATUS:CONFIRMED
SUMMARY:Fraternidade Universal (Feriado obrigatório)
TRANSP:TRANSPARENT
X-MICROSOFT-CDO-ALLDAYEVENT:FALSE
X-MICROSOFT-CDO-BUSYSTATUS:FREE
X-MICROSOFT-CDO-IMPORTANCE:1
X-MICROSOFT-DISALLOW-COUNTER:FALSE
X-MS-OLK-AUTOFILLLOCATION:TRUE
X-MS-OLK-AUTOSTARTCHECK:FALSE
X-MS-OLK-CONFTYPE:0
END:VEVENT
BEGIN:VEVENT
DTSTART:20270205T063000Z
DTEND:20270205T094500Z
DTSTAMP:20260425T160628Z
UID:544
CLASS:PUBLIC
DESCRIPTION:
LAST-MODIFIED:20260420T024033Z
LOCATION:
ORGANIZER:
SEQUENCE:0
STATUS:CONFIRMED
SUMMARY:Véspera do Novo Ano Lunar (Tolerância de ponto)
TRANSP:TRANSPARENT
X-MICROSOFT-CDO-ALLDAYEVENT:FALSE
X-MICROSOFT-CDO-BUSYSTATUS:FREE
X-MICROSOFT-CDO-IMPORTANCE:1
X-MICROSOFT-DISALLOW-COUNTER:FALSE
X-MS-OLK-AUTOFILLLOCATION:TRUE
X-MS-OLK-AUTOSTARTCHECK:FALSE
X-MS-OLK-CONFTYPE:0
END:VEVENT
BEGIN:VEVENT
DTSTART:20270205T160000Z
DTEND:20270206T160000Z
DTSTAMP:20260425T160628Z
UID:521
CLASS:PUBLIC
DESCRIPTION:
LAST-MODIFIED:20260417T080548Z
LOCATION:
ORGANIZER:
SEQUENCE:0
STATUS:CONFIRMED
SUMMARY:1.º dia do Novo Ano Lunar (Feriado obrigatório)
TRANSP:TRANSPARENT
X-MICROSOFT-CDO-ALLDAYEVENT:FALSE
X-MICROSOFT-CDO-BUSYSTATUS:FREE
X-MICROSOFT-CDO-IMPORTANCE:1
X-MICROSOFT-DISALLOW-COUNTER:FALSE
X-MS-OLK-AUTOFILLLOCATION:TRUE
X-MS-OLK-AUTOSTARTCHECK:FALSE
X-MS-OLK-CONFTYPE:0
END:VEVENT
BEGIN:VEVENT
DTSTART:20270206T160000Z
DTEND:20270207T160000Z
DTSTAMP:20260425T160628Z
UID:522
CLASS:PUBLIC
DESCRIPTION:
LAST-MODIFIED:20260417T080612Z
LOCATION:
ORGANIZER:
SEQUENCE:0
STATUS:CONFIRMED
SUMMARY:2.º dia do Novo Ano Lunar (Feriado obrigatório)
TRANSP:TRANSPARENT
X-MICROSOFT-CDO-ALLDAYEVENT:FALSE
X-MICROSOFT-CDO-BUSYSTATUS:FREE
X-MICROSOFT-CDO-IMPORTANCE:1
X-MICROSOFT-DISALLOW-COUNTER:FALSE
X-MS-OLK-AUTOFILLLOCATION:TRUE
X-MS-OLK-AUTOSTARTCHECK:FALSE
X-MS-OLK-CONFTYPE:0
END:VEVENT
BEGIN:VEVENT
DTSTART:20270207T160000Z
DTEND:20270208T160000Z
DTSTAMP:20260425T160628Z
UID:523
CLASS:PUBLIC
DESCRIPTION:
LAST-MODIFIED:20260417T080658Z
LOCATION:
ORGANIZER:
SEQUENCE:0
STATUS:CONFIRMED
SUMMARY:3.º dia do Novo Ano Lunar (Feriado obrigatório)
TRANSP:TRANSPARENT
X-MICROSOFT-CDO-ALLDAYEVENT:FALSE
X-MICROSOFT-CDO-BUSYSTATUS:FREE
X-MICROSOFT-CDO-IMPORTANCE:1
X-MICROSOFT-DISALLOW-COUNTER:FALSE
X-MS-OLK-AUTOFILLLOCATION:TRUE
X-MS-OLK-AUTOSTARTCHECK:FALSE
X-MS-OLK-CONFTYPE:0
END:VEVENT
BEGIN:VEVENT
DTSTART:20270208T160000Z
DTEND:20270209T160000Z
DTSTAMP:20260425T160628Z
UID:519
CLASS:PUBLIC
DESCRIPTION:
LAST-MODIFIED:20260417T081507Z
LOCATION:
ORGANIZER:
SEQUENCE:0
STATUS:CONFIRMED
SUMMARY:Dia de descanso compensatório relativo ao 1.° dia do Novo Ano Lunar (Dia de descanso compensatório)
TRANSP:TRANSPARENT
X-MICROSOFT-CDO-ALLDAYEVENT:FALSE
X-MICROSOFT-CDO-BUSYSTATUS:FREE
X-MICROSOFT-CDO-IMPORTANCE:1
X-MICROSOFT-DISALLOW-COUNTER:FALSE
X-MS-OLK-AUTOFILLLOCATION:TRUE
X-MS-OLK-AUTOSTARTCHECK:FALSE
X-MS-OLK-CONFTYPE:0
END:VEVENT
BEGIN:VEVENT
DTSTART:20270209T160000Z
DTEND:20270210T160000Z
DTSTAMP:20260425T160628Z
UID:543
CLASS:PUBLIC
DESCRIPTION:
LAST-MODIFIED:20260420T023657Z
LOCATION:
ORGANIZER:
SEQUENCE:0
STATUS:CONFIRMED
SUMMARY:Dia de descanso compensatório relativo ao 2.° dia do Novo Ano Lunar (Dia de descanso compensatório)
TRANSP:TRANSPARENT
X-MICROSOFT-CDO-ALLDAYEVENT:FALSE
X-MICROSOFT-CDO-BUSYSTATUS:FREE
X-MICROSOFT-CDO-IMPORTANCE:1
X-MICROSOFT-DISALLOW-COUNTER:FALSE
X-MS-OLK-AUTOFILLLOCATION:TRUE
X-MS-OLK-AUTOSTARTCHECK:FALSE
X-MS-OLK-CONFTYPE:0
END:VEVENT
BEGIN:VEVENT
DTSTART:20270325T160000Z
DTEND:20270326T160000Z
DTSTAMP:20260425T160628Z
UID:525
CLASS:PUBLIC
DESCRIPTION:
LAST-MODIFIED:20260417T080750Z
LOCATION:
ORGANIZER:
SEQUENCE:0
STATUS:CONFIRMED
SUMMARY:Morte de Cristo (Feriado)
TRANSP:TRANSPARENT
X-MICROSOFT-CDO-ALLDAYEVENT:FALSE
X-MICROSOFT-CDO-BUSYSTATUS:FREE
X-MICROSOFT-CDO-IMPORTANCE:1
X-MICROSOFT-DISALLOW-COUNTER:FALSE
X-MS-OLK-AUTOFILLLOCATION:TRUE
X-MS-OLK-AUTOSTARTCHECK:FALSE
X-MS-OLK-CONFTYPE:0
END:VEVENT
BEGIN:VEVENT
DTSTART:20270326T160000Z
DTEND:20270327T160000Z
DTSTAMP:20260425T160628Z
UID:526
CLASS:PUBLIC
DESCRIPTION:
LAST-MODIFIED:20260417T080836Z
LOCATION:
ORGANIZER:
SEQUENCE:0
STATUS:CONFIRMED
SUMMARY:Véspera da Ressurreição de Cristo (Feriado)
TRANSP:TRANSPARENT
X-MICROSOFT-CDO-ALLDAYEVENT:FALSE
X-MICROSOFT-CDO-BUSYSTATUS:FREE
X-MICROSOFT-CDO-IMPORTANCE:1
X-MICROSOFT-DISALLOW-COUNTER:FALSE
X-MS-OLK-AUTOFILLLOCATION:TRUE
X-MS-OLK-AUTOSTARTCHECK:FALSE
X-MS-OLK-CONFTYPE:0
END:VEVENT
BEGIN:VEVENT
DTSTART:20270328T160000Z
DTEND:20270329T160000Z
DTSTAMP:20260425T160628Z
UID:527
CLASS:PUBLIC
DESCRIPTION:
LAST-MODIFIED:20260417T080928Z
LOCATION:
ORGANIZER:
SEQUENCE:0
STATUS:CONFIRMED
SUMMARY:Dia de descanso compensatório relativo à Véspera da Ressurreição de Cristo (Dia de descanso compensatório)
TRANSP:TRANSPARENT
X-MICROSOFT-CDO-ALLDAYEVENT:FALSE
X-MICROSOFT-CDO-BUSYSTATUS:FREE
X-MICROSOFT-CDO-IMPORTANCE:1
X-MICROSOFT-DISALLOW-COUNTER:FALSE
X-MS-OLK-AUTOFILLLOCATION:TRUE
X-MS-OLK-AUTOSTARTCHECK:FALSE
X-MS-OLK-CONFTYPE:0
END:VEVENT
BEGIN:VEVENT
DTSTART:20270404T160000Z
DTEND:20270405T160000Z
DTSTAMP:20260425T160628Z
UID:524
CLASS:PUBLIC
DESCRIPTION:
LAST-MODIFIED:20260417T075455Z
LOCATION:
ORGANIZER:
SEQUENCE:0
STATUS:CONFIRMED
SUMMARY:Cheng Ming (Dia de Finados) (Feriado obrigatório)
TRANSP:TRANSPARENT
X-MICROSOFT-CDO-ALLDAYEVENT:FALSE
X-MICROSOFT-CDO-BUSYSTATUS:FREE
X-MICROSOFT-CDO-IMPORTANCE:1
X-MICROSOFT-DISALLOW-COUNTER:FALSE
X-MS-OLK-AUTOFILLLOCATION:TRUE
X-MS-OLK-AUTOSTARTCHECK:FALSE
X-MS-OLK-CONFTYPE:0
END:VEVENT
BEGIN:VEVENT
DTSTART:20270430T160000Z
DTEND:20270501T160000Z
DTSTAMP:20260425T160628Z
UID:528
CLASS:PUBLIC
DESCRIPTION:
LAST-MODIFIED:20260417T075455Z
LOCATION:
ORGANIZER:
SEQUENCE:0
STATUS:CONFIRMED
SUMMARY:Dia do Trabalhador (Feriado obrigatório)
TRANSP:TRANSPARENT
X-MICROSOFT-CDO-ALLDAYEVENT:FALSE
X-MICROSOFT-CDO-BUSYSTATUS:FREE
X-MICROSOFT-CDO-IMPORTANCE:1
X-MICROSOFT-DISALLOW-COUNTER:FALSE
X-MS-OLK-AUTOFILLLOCATION:TRUE
X-MS-OLK-AUTOSTARTCHECK:FALSE
X-MS-OLK-CONFTYPE:0
END:VEVENT
BEGIN:VEVENT
DTSTART:20270502T160000Z
DTEND:20270503T160000Z
DTSTAMP:20260425T160628Z
UID:546
CLASS:PUBLIC
DESCRIPTION:
LAST-MODIFIED:20260417T081148Z
LOCATION:
ORGANIZER:
SEQUENCE:0
STATUS:CONFIRMED
SUMMARY:Dia de descanso compensatório relativo ao Dia do Trabalhador (Dia de descanso compensatório)
TRANSP:TRANSPARENT
X-MICROSOFT-CDO-ALLDAYEVENT:FALSE
X-MICROSOFT-CDO-BUSYSTATUS:FREE
X-MICROSOFT-CDO-IMPORTANCE:1
X-MICROSOFT-DISALLOW-COUNTER:FALSE
X-MS-OLK-AUTOFILLLOCATION:TRUE
X-MS-OLK-AUTOSTARTCHECK:FALSE
X-MS-OLK-CONFTYPE:0
END:VEVENT
BEGIN:VEVENT
DTSTART:20270512T160000Z
DTEND:20270513T160000Z
DTSTAMP:20260425T160628Z
UID:529
CLASS:PUBLIC
DESCRIPTION:
LAST-MODIFIED:20260417T081309Z
LOCATION:
ORGANIZER:
SEQUENCE:0
STATUS:CONFIRMED
SUMMARY:Dia do Buda (Feriado)
TRANSP:TRANSPARENT
X-MICROSOFT-CDO-ALLDAYEVENT:FALSE
X-MICROSOFT-CDO-BUSYSTATUS:FREE
X-MICROSOFT-CDO-IMPORTANCE:1
X-MICROSOFT-DISALLOW-COUNTER:FALSE
X-MS-OLK-AUTOFILLLOCATION:TRUE
X-MS-OLK-AUTOSTARTCHECK:FALSE
X-MS-OLK-CONFTYPE:0
END:VEVENT
BEGIN:VEVENT
DTSTART:20270608T160000Z
DTEND:20270609T160000Z
DTSTAMP:20260425T160628Z
UID:530
CLASS:PUBLIC
DESCRIPTION:
LAST-MODIFIED:20260420T023356Z
LOCATION:
ORGANIZER:
SEQUENCE:0
STATUS:CONFIRMED
SUMMARY:Tung Ng (Barco Dragão) (Feriado)
TRANSP:TRANSPARENT
X-MICROSOFT-CDO-ALLDAYEVENT:FALSE
X-MICROSOFT-CDO-BUSYSTATUS:FREE
X-MICROSOFT-CDO-IMPORTANCE:1
X-MICROSOFT-DISALLOW-COUNTER:FALSE
X-MS-OLK-AUTOFILLLOCATION:TRUE
X-MS-OLK-AUTOSTARTCHECK:FALSE
X-MS-OLK-CONFTYPE:0
END:VEVENT
BEGIN:VEVENT
DTSTART:20270915T160000Z
DTEND:20270916T160000Z
DTSTAMP:20260425T160628Z
UID:531
CLASS:PUBLIC
DESCRIPTION:
LAST-MODIFIED:20260420T023433Z
LOCATION:
ORGANIZER:
SEQUENCE:0
STATUS:CONFIRMED
SUMMARY:Dia seguinte ao Chong Chao (Bolo Lunar) (Feriado obrigatório)
TRANSP:TRANSPARENT
X-MICROSOFT-CDO-ALLDAYEVENT:FALSE
X-MICROSOFT-CDO-BUSYSTATUS:FREE
X-MICROSOFT-CDO-IMPORTANCE:1
X-MICROSOFT-DISALLOW-COUNTER:FALSE
X-MS-OLK-AUTOFILLLOCATION:TRUE
X-MS-OLK-AUTOSTARTCHECK:FALSE
X-MS-OLK-CONFTYPE:0
END:VEVENT
BEGIN:VEVENT
DTSTART:20270930T160000Z
DTEND:20271001T160000Z
DTSTAMP:20260425T160628Z
UID:533
CLASS:PUBLIC
DESCRIPTION:
LAST-MODIFIED:20260417T075455Z
LOCATION:
ORGANIZER:
SEQUENCE:0
STATUS:CONFIRMED
SUMMARY:Implantação da República Popular da China (Feriado obrigatório)
TRANSP:TRANSPARENT
X-MICROSOFT-CDO-ALLDAYEVENT:FALSE
X-MICROSOFT-CDO-BUSYSTATUS:FREE
X-MICROSOFT-CDO-IMPORTANCE:1
X-MICROSOFT-DISALLOW-COUNTER:FALSE
X-MS-OLK-AUTOFILLLOCATION:TRUE
X-MS-OLK-AUTOSTARTCHECK:FALSE
X-MS-OLK-CONFTYPE:0
END:VEVENT
BEGIN:VEVENT
DTSTART:20271001T160000Z
DTEND:20271002T160000Z
DTSTAMP:20260425T160628Z
UID:532
CLASS:PUBLIC
DESCRIPTION:
LAST-MODIFIED:20260417T075455Z
LOCATION:
ORGANIZER:
SEQUENCE:0
STATUS:CONFIRMED
SUMMARY:Dia seguinte à Implantação da República Popular da China (Feriado)
TRANSP:TRANSPARENT
X-MICROSOFT-CDO-ALLDAYEVENT:FALSE
X-MICROSOFT-CDO-BUSYSTATUS:FREE
X-MICROSOFT-CDO-IMPORTANCE:1
X-MICROSOFT-DISALLOW-COUNTER:FALSE
X-MS-OLK-AUTOFILLLOCATION:TRUE
X-MS-OLK-AUTOSTARTCHECK:FALSE
X-MS-OLK-CONFTYPE:0
END:VEVENT
BEGIN:VEVENT
DTSTART:20271003T160000Z
DTEND:20271004T160000Z
DTSTAMP:20260425T160628Z
UID:541
CLASS:PUBLIC
DESCRIPTION:
LAST-MODIFIED:20260420T023921Z
LOCATION:
ORGANIZER:
SEQUENCE:0
STATUS:CONFIRMED
SUMMARY:Dia de descanso compensatório relativo ao Dia seguinte à Implantação da República Popular da China  (Dia de descanso compensatório)
TRANSP:TRANSPARENT
X-MICROSOFT-CDO-ALLDAYEVENT:FALSE
X-MICROSOFT-CDO-BUSYSTATUS:FREE
X-MICROSOFT-CDO-IMPORTANCE:1
X-MICROSOFT-DISALLOW-COUNTER:FALSE
X-MS-OLK-AUTOFILLLOCATION:TRUE
X-MS-OLK-AUTOSTARTCHECK:FALSE
X-MS-OLK-CONFTYPE:0
END:VEVENT
BEGIN:VEVENT
DTSTART:20271007T160000Z
DTEND:20271008T160000Z
DTSTAMP:20260425T160628Z
UID:535
CLASS:PUBLIC
DESCRIPTION:
LAST-MODIFIED:20260420T023759Z
LOCATION:
ORGANIZER:
SEQUENCE:0
STATUS:CONFIRMED
SUMMARY:Chong Yeong (Culto dos Antepassados) (Feriado obrigatório)
TRANSP:TRANSPARENT
X-MICROSOFT-CDO-ALLDAYEVENT:FALSE
X-MICROSOFT-CDO-BUSYSTATUS:FREE
X-MICROSOFT-CDO-IMPORTANCE:1
X-MICROSOFT-DISALLOW-COUNTER:FALSE
X-MS-OLK-AUTOFILLLOCATION:TRUE
X-MS-OLK-AUTOSTARTCHECK:FALSE
X-MS-OLK-CONFTYPE:0
END:VEVENT
BEGIN:VEVENT
DTSTART:20271101T160000Z
DTEND:20271102T160000Z
DTSTAMP:20260425T160628Z
UID:536
CLASS:PUBLIC
DESCRIPTION:
LAST-MODIFIED:20260417T075455Z
LOCATION:
ORGANIZER:
SEQUENCE:0
STATUS:CONFIRMED
SUMMARY:Dia de Finados (Feriado)
TRANSP:TRANSPARENT
X-MICROSOFT-CDO-ALLDAYEVENT:FALSE
X-MICROSOFT-CDO-BUSYSTATUS:FREE
X-MICROSOFT-CDO-IMPORTANCE:1
X-MICROSOFT-DISALLOW-COUNTER:FALSE
X-MS-OLK-AUTOFILLLOCATION:TRUE
X-MS-OLK-AUTOSTARTCHECK:FALSE
X-MS-OLK-CONFTYPE:0
END:VEVENT
BEGIN:VEVENT
DTSTART:20271207T160000Z
DTEND:20271208T160000Z
DTSTAMP:20260425T160628Z
UID:537
CLASS:PUBLIC
DESCRIPTION:
LAST-MODIFIED:20260417T075455Z
LOCATION:
ORGANIZER:
SEQUENCE:0
STATUS:CONFIRMED
SUMMARY:Imaculada Conceição (Feriado)
TRANSP:TRANSPARENT
X-MICROSOFT-CDO-ALLDAYEVENT:FALSE
X-MICROSOFT-CDO-BUSYSTATUS:FREE
X-MICROSOFT-CDO-IMPORTANCE:1
X-MICROSOFT-DISALLOW-COUNTER:FALSE
X-MS-OLK-AUTOFILLLOCATION:TRUE
X-MS-OLK-AUTOSTARTCHECK:FALSE
X-MS-OLK-CONFTYPE:0
END:VEVENT
BEGIN:VEVENT
DTSTART:20271219T160000Z
DTEND:20271220T160000Z
DTSTAMP:20260425T160628Z
UID:542
CLASS:PUBLIC
DESCRIPTION:
LAST-MODIFIED:20260417T075455Z
LOCATION:
ORGANIZER:
SEQUENCE:0
STATUS:CONFIRMED
SUMMARY:Dia Comemorativo do Estabelecimento da Região Administrativa Especial de Macau (Feriado obrigatório)
TRANSP:TRANSPARENT
X-MICROSOFT-CDO-ALLDAYEVENT:FALSE
X-MICROSOFT-CDO-BUSYSTATUS:FREE
X-MICROSOFT-CDO-IMPORTANCE:1
X-MICROSOFT-DISALLOW-COUNTER:FALSE
X-MS-OLK-AUTOFILLLOCATION:TRUE
X-MS-OLK-AUTOSTARTCHECK:FALSE
X-MS-OLK-CONFTYPE:0
END:VEVENT
BEGIN:VEVENT
DTSTART:20271221T160000Z
DTEND:20271222T160000Z
DTSTAMP:20260425T160628Z
UID:538
CLASS:PUBLIC
DESCRIPTION:
LAST-MODIFIED:20260417T075455Z
LOCATION:
ORGANIZER:
SEQUENCE:0
STATUS:CONFIRMED
SUMMARY:Solstício de Inverno (Feriado)
TRANSP:TRANSPARENT
X-MICROSOFT-CDO-ALLDAYEVENT:FALSE
X-MICROSOFT-CDO-BUSYSTATUS:FREE
X-MICROSOFT-CDO-IMPORTANCE:1
X-MICROSOFT-DISALLOW-COUNTER:FALSE
X-MS-OLK-AUTOFILLLOCATION:TRUE
X-MS-OLK-AUTOSTARTCHECK:FALSE
X-MS-OLK-CONFTYPE:0
END:VEVENT
BEGIN:VEVENT
DTSTART:20271223T160000Z
DTEND:20271224T160000Z
DTSTAMP:20260425T160628Z
UID:539
CLASS:PUBLIC
DESCRIPTION:
LAST-MODIFIED:20260417T075455Z
LOCATION:
ORGANIZER:
SEQUENCE:0
STATUS:CONFIRMED
SUMMARY:Véspera de Natal (Feriado)
TRANSP:TRANSPARENT
X-MICROSOFT-CDO-ALLDAYEVENT:FALSE
X-MICROSOFT-CDO-BUSYSTATUS:FREE
X-MICROSOFT-CDO-IMPORTANCE:1
X-MICROSOFT-DISALLOW-COUNTER:FALSE
X-MS-OLK-AUTOFILLLOCATION:TRUE
X-MS-OLK-AUTOSTARTCHECK:FALSE
X-MS-OLK-CONFTYPE:0
END:VEVENT
BEGIN:VEVENT
DTSTART:20271224T160000Z
DTEND:20271225T160000Z
DTSTAMP:20260425T160628Z
UID:540
CLASS:PUBLIC
DESCRIPTION:
LAST-MODIFIED:20260417T075455Z
LOCATION:
ORGANIZER:
SEQUENCE:0
STATUS:CONFIRMED
SUMMARY:Natal (Feriado)
TRANSP:TRANSPARENT
X-MICROSOFT-CDO-ALLDAYEVENT:FALSE
X-MICROSOFT-CDO-BUSYSTATUS:FREE
X-MICROSOFT-CDO-IMPORTANCE:1
X-MICROSOFT-DISALLOW-COUNTER:FALSE
X-MS-OLK-AUTOFILLLOCATION:TRUE
X-MS-OLK-AUTOSTARTCHECK:FALSE
X-MS-OLK-CONFTYPE:0
END:VEVENT
BEGIN:VEVENT
DTSTART:20271226T160000Z
DTEND:20271227T160000Z
DTSTAMP:20260425T160628Z
UID:534
CLASS:PUBLIC
DESCRIPTION:
LAST-MODIFIED:20260420T024547Z
LOCATION:
ORGANIZER:
SEQUENCE:0
STATUS:CONFIRMED
SUMMARY:Dia de descanso compensatório relativo ao Natal (Dia de descanso compensatório)
TRANSP:TRANSPARENT
X-MICROSOFT-CDO-ALLDAYEVENT:FALSE
X-MICROSOFT-CDO-BUSYSTATUS:FREE
X-MICROSOFT-CDO-IMPORTANCE:1
X-MICROSOFT-DISALLOW-COUNTER:FALSE
X-MS-OLK-AUTOFILLLOCATION:TRUE
X-MS-OLK-AUTOSTARTCHECK:FALSE
X-MS-OLK-CONFTYPE:0
END:VEVENT
BEGIN:VEVENT
DTSTART:20271231T063000Z
DTEND:20271231T094500Z
DTSTAMP:20260425T160628Z
UID:545
CLASS:PUBLIC
DESCRIPTION:
LAST-MODIFIED:20260417T075455Z
LOCATION:
ORGANIZER:
SEQUENCE:0
STATUS:CONFIRMED
SUMMARY:Véspera do Dia da Fraternidade Universal (Tolerância de ponto)
TRANSP:TRANSPARENT
X-MICROSOFT-CDO-ALLDAYEVENT:FALSE
X-MICROSOFT-CDO-BUSYSTATUS:FREE
X-MICROSOFT-CDO-IMPORTANCE:1
X-MICROSOFT-DISALLOW-COUNTER:FALSE
X-MS-OLK-AUTOFILLLOCATION:TRUE
X-MS-OLK-AUTOSTARTCHECK:FALSE
X-MS-OLK-CONFTYPE:0
END:VEVENT
BEGIN:VEVENT
DTSTART:20251231T160000Z
DTEND:20260101T160000Z
DTSTAMP:20260425T160628Z
UID:488
CLASS:PUBLIC
DESCRIPTION:
LAST-MODIFIED:20250423T071734Z
LOCATION:
ORGANIZER:
SEQUENCE:0
STATUS:CONFIRMED
SUMMARY:Fraternidade Universal (Feriado obrigatório)
TRANSP:TRANSPARENT
X-MICROSOFT-CDO-ALLDAYEVENT:FALSE
X-MICROSOFT-CDO-BUSYSTATUS:FREE
X-MICROSOFT-CDO-IMPORTANCE:1
X-MICROSOFT-DISALLOW-COUNTER:FALSE
X-MS-OLK-AUTOFILLLOCATION:TRUE
X-MS-OLK-AUTOSTARTCHECK:FALSE
X-MS-OLK-CONFTYPE:0
END:VEVENT
BEGIN:VEVENT
DTSTART:20260216T063000Z
DTEND:20260216T094500Z
DTSTAMP:20260425T160628Z
UID:512
CLASS:PUBLIC
DESCRIPTION:
LAST-MODIFIED:20250423T072204Z
LOCATION:
ORGANIZER:
SEQUENCE:0
STATUS:CONFIRMED
SUMMARY:Véspera do Novo Ano Lunar (Tolerância de ponto)
TRANSP:TRANSPARENT
X-MICROSOFT-CDO-ALLDAYEVENT:FALSE
X-MICROSOFT-CDO-BUSYSTATUS:FREE
X-MICROSOFT-CDO-IMPORTANCE:1
X-MICROSOFT-DISALLOW-COUNTER:FALSE
X-MS-OLK-AUTOFILLLOCATION:TRUE
X-MS-OLK-AUTOSTARTCHECK:FALSE
X-MS-OLK-CONFTYPE:0
END:VEVENT
BEGIN:VEVENT
DTSTART:20260216T160000Z
DTEND:20260217T160000Z
DTSTAMP:20260425T160628Z
UID:489
CLASS:PUBLIC
DESCRIPTION:
LAST-MODIFIED:20250423T072326Z
LOCATION:
ORGANIZER:
SEQUENCE:0
STATUS:CONFIRMED
SUMMARY:1.º dia do Novo Ano Lunar (Feriado obrigatório)
TRANSP:TRANSPARENT
X-MICROSOFT-CDO-ALLDAYEVENT:FALSE
X-MICROSOFT-CDO-BUSYSTATUS:FREE
X-MICROSOFT-CDO-IMPORTANCE:1
X-MICROSOFT-DISALLOW-COUNTER:FALSE
X-MS-OLK-AUTOFILLLOCATION:TRUE
X-MS-OLK-AUTOSTARTCHECK:FALSE
X-MS-OLK-CONFTYPE:0
END:VEVENT
BEGIN:VEVENT
DTSTART:20260217T160000Z
DTEND:20260218T160000Z
DTSTAMP:20260425T160628Z
UID:490
CLASS:PUBLIC
DESCRIPTION:
LAST-MODIFIED:20250423T072610Z
LOCATION:
ORGANIZER:
SEQUENCE:0
STATUS:CONFIRMED
SUMMARY:2.º dia do Novo Ano Lunar (Feriado obrigatório)
TRANSP:TRANSPARENT
X-MICROSOFT-CDO-ALLDAYEVENT:FALSE
X-MICROSOFT-CDO-BUSYSTATUS:FREE
X-MICROSOFT-CDO-IMPORTANCE:1
X-MICROSOFT-DISALLOW-COUNTER:FALSE
X-MS-OLK-AUTOFILLLOCATION:TRUE
X-MS-OLK-AUTOSTARTCHECK:FALSE
X-MS-OLK-CONFTYPE:0
END:VEVENT
BEGIN:VEVENT
DTSTART:20260218T160000Z
DTEND:20260219T160000Z
DTSTAMP:20260425T160628Z
UID:491
CLASS:PUBLIC
DESCRIPTION:
LAST-MODIFIED:20250423T072646Z
LOCATION:
ORGANIZER:
SEQUENCE:0
STATUS:CONFIRMED
SUMMARY:3.º dia do Novo Ano Lunar (Feriado obrigatório)
TRANSP:TRANSPARENT
X-MICROSOFT-CDO-ALLDAYEVENT:FALSE
X-MICROSOFT-CDO-BUSYSTATUS:FREE
X-MICROSOFT-CDO-IMPORTANCE:1
X-MICROSOFT-DISALLOW-COUNTER:FALSE
X-MS-OLK-AUTOFILLLOCATION:TRUE
X-MS-OLK-AUTOSTARTCHECK:FALSE
X-MS-OLK-CONFTYPE:0
END:VEVENT
BEGIN:VEVENT
DTSTART:20260402T160000Z
DTEND:20260403T160000Z
DTSTAMP:20260425T160628Z
UID:493
CLASS:PUBLIC
DESCRIPTION:
LAST-MODIFIED:20250423T072955Z
LOCATION:
ORGANIZER:
SEQUENCE:0
STATUS:CONFIRMED
SUMMARY:Morte de Cristo (Feriado)
TRANSP:TRANSPARENT
X-MICROSOFT-CDO-ALLDAYEVENT:FALSE
X-MICROSOFT-CDO-BUSYSTATUS:FREE
X-MICROSOFT-CDO-IMPORTANCE:1
X-MICROSOFT-DISALLOW-COUNTER:FALSE
X-MS-OLK-AUTOFILLLOCATION:TRUE
X-MS-OLK-AUTOSTARTCHECK:FALSE
X-MS-OLK-CONFTYPE:0
END:VEVENT
BEGIN:VEVENT
DTSTART:20260403T160000Z
DTEND:20260404T160000Z
DTSTAMP:20260425T160628Z
UID:494
CLASS:PUBLIC
DESCRIPTION:
LAST-MODIFIED:20250423T073018Z
LOCATION:
ORGANIZER:
SEQUENCE:0
STATUS:CONFIRMED
SUMMARY:Véspera da Ressurreição de Cristo (Feriado)
TRANSP:TRANSPARENT
X-MICROSOFT-CDO-ALLDAYEVENT:FALSE
X-MICROSOFT-CDO-BUSYSTATUS:FREE
X-MICROSOFT-CDO-IMPORTANCE:1
X-MICROSOFT-DISALLOW-COUNTER:FALSE
X-MS-OLK-AUTOFILLLOCATION:TRUE
X-MS-OLK-AUTOSTARTCHECK:FALSE
X-MS-OLK-CONFTYPE:0
END:VEVENT
BEGIN:VEVENT
DTSTART:20260404T160000Z
DTEND:20260405T160000Z
DTSTAMP:20260425T160628Z
UID:492
CLASS:PUBLIC
DESCRIPTION:
LAST-MODIFIED:20250423T073100Z
LOCATION:
ORGANIZER:
SEQUENCE:0
STATUS:CONFIRMED
SUMMARY:Cheng Ming (Dia de Finados) (Feriado obrigatório)
TRANSP:TRANSPARENT
X-MICROSOFT-CDO-ALLDAYEVENT:FALSE
X-MICROSOFT-CDO-BUSYSTATUS:FREE
X-MICROSOFT-CDO-IMPORTANCE:1
X-MICROSOFT-DISALLOW-COUNTER:FALSE
X-MS-OLK-AUTOFILLLOCATION:TRUE
X-MS-OLK-AUTOSTARTCHECK:FALSE
X-MS-OLK-CONFTYPE:0
END:VEVENT
BEGIN:VEVENT
DTSTART:20260405T160000Z
DTEND:20260406T160000Z
DTSTAMP:20260425T160628Z
UID:495
CLASS:PUBLIC
DESCRIPTION:
LAST-MODIFIED:20250423T073138Z
LOCATION:
ORGANIZER:
SEQUENCE:0
STATUS:CONFIRMED
SUMMARY:Dia de descanso compensatório relativo à Véspera da Ressurreição de Cristo (Dia de descanso compensatório)
TRANSP:TRANSPARENT
X-MICROSOFT-CDO-ALLDAYEVENT:FALSE
X-MICROSOFT-CDO-BUSYSTATUS:FREE
X-MICROSOFT-CDO-IMPORTANCE:1
X-MICROSOFT-DISALLOW-COUNTER:FALSE
X-MS-OLK-AUTOFILLLOCATION:TRUE
X-MS-OLK-AUTOSTARTCHECK:FALSE
X-MS-OLK-CONFTYPE:0
END:VEVENT
BEGIN:VEVENT
DTSTART:20260406T160000Z
DTEND:20260407T160000Z
DTSTAMP:20260425T160628Z
UID:518
CLASS:PUBLIC
DESCRIPTION:
LAST-MODIFIED:20250423T073606Z
LOCATION:
ORGANIZER:
SEQUENCE:0
STATUS:CONFIRMED
SUMMARY:Dia de descanso compensatório relativo ao   Cheng Ming (Dia de Finados) (Dia de descanso compensatório)
TRANSP:TRANSPARENT
X-MICROSOFT-CDO-ALLDAYEVENT:FALSE
X-MICROSOFT-CDO-BUSYSTATUS:FREE
X-MICROSOFT-CDO-IMPORTANCE:1
X-MICROSOFT-DISALLOW-COUNTER:FALSE
X-MS-OLK-AUTOFILLLOCATION:TRUE
X-MS-OLK-AUTOSTARTCHECK:FALSE
X-MS-OLK-CONFTYPE:0
END:VEVENT
BEGIN:VEVENT
DTSTART:20260430T160000Z
DTEND:20260501T160000Z
DTSTAMP:20260425T160628Z
UID:496
CLASS:PUBLIC
DESCRIPTION:
LAST-MODIFIED:20250423T071734Z
LOCATION:
ORGANIZER:
SEQUENCE:0
STATUS:CONFIRMED
SUMMARY:Dia do Trabalhador (Feriado obrigatório)
TRANSP:TRANSPARENT
X-MICROSOFT-CDO-ALLDAYEVENT:FALSE
X-MICROSOFT-CDO-BUSYSTATUS:FREE
X-MICROSOFT-CDO-IMPORTANCE:1
X-MICROSOFT-DISALLOW-COUNTER:FALSE
X-MS-OLK-AUTOFILLLOCATION:TRUE
X-MS-OLK-AUTOSTARTCHECK:FALSE
X-MS-OLK-CONFTYPE:0
END:VEVENT
BEGIN:VEVENT
DTSTART:20260523T160000Z
DTEND:20260524T160000Z
DTSTAMP:20260425T160628Z
UID:497
CLASS:PUBLIC
DESCRIPTION:
LAST-MODIFIED:20250423T073655Z
LOCATION:
ORGANIZER:
SEQUENCE:0
STATUS:CONFIRMED
SUMMARY:Dia do Buda (Feriado)
TRANSP:TRANSPARENT
X-MICROSOFT-CDO-ALLDAYEVENT:FALSE
X-MICROSOFT-CDO-BUSYSTATUS:FREE
X-MICROSOFT-CDO-IMPORTANCE:1
X-MICROSOFT-DISALLOW-COUNTER:FALSE
X-MS-OLK-AUTOFILLLOCATION:TRUE
X-MS-OLK-AUTOSTARTCHECK:FALSE
X-MS-OLK-CONFTYPE:0
END:VEVENT
BEGIN:VEVENT
DTSTART:20260524T160000Z
DTEND:20260525T160000Z
DTSTAMP:20260425T160628Z
UID:487
CLASS:PUBLIC
DESCRIPTION:
LAST-MODIFIED:20250425T022927Z
LOCATION:
ORGANIZER:
SEQUENCE:0
STATUS:CONFIRMED
SUMMARY:Dia de descanso compensatório relativo ao Dia do Buda (Dia de descanso compensatório)
TRANSP:TRANSPARENT
X-MICROSOFT-CDO-ALLDAYEVENT:FALSE
X-MICROSOFT-CDO-BUSYSTATUS:FREE
X-MICROSOFT-CDO-IMPORTANCE:1
X-MICROSOFT-DISALLOW-COUNTER:FALSE
X-MS-OLK-AUTOFILLLOCATION:TRUE
X-MS-OLK-AUTOSTARTCHECK:FALSE
X-MS-OLK-CONFTYPE:0
END:VEVENT
BEGIN:VEVENT
DTSTART:20260618T160000Z
DTEND:20260619T160000Z
DTSTAMP:20260425T160628Z
UID:498
CLASS:PUBLIC
DESCRIPTION:
LAST-MODIFIED:20250423T073739Z
LOCATION:
ORGANIZER:
SEQUENCE:0
STATUS:CONFIRMED
SUMMARY:Tung Ng (Barco Dragão) (Feriado)
TRANSP:TRANSPARENT
X-MICROSOFT-CDO-ALLDAYEVENT:FALSE
X-MICROSOFT-CDO-BUSYSTATUS:FREE
X-MICROSOFT-CDO-IMPORTANCE:1
X-MICROSOFT-DISALLOW-COUNTER:FALSE
X-MS-OLK-AUTOFILLLOCATION:TRUE
X-MS-OLK-AUTOSTARTCHECK:FALSE
X-MS-OLK-CONFTYPE:0
END:VEVENT
BEGIN:VEVENT
DTSTART:20260925T160000Z
DTEND:20260926T160000Z
DTSTAMP:20260425T160628Z
UID:499
CLASS:PUBLIC
DESCRIPTION:
LAST-MODIFIED:20250423T074101Z
LOCATION:
ORGANIZER:
SEQUENCE:0
STATUS:CONFIRMED
SUMMARY:Dia seguinte ao Chong Chao (Bolo Lunar) (Feriado obrigatório)
TRANSP:TRANSPARENT
X-MICROSOFT-CDO-ALLDAYEVENT:FALSE
X-MICROSOFT-CDO-BUSYSTATUS:FREE
X-MICROSOFT-CDO-IMPORTANCE:1
X-MICROSOFT-DISALLOW-COUNTER:FALSE
X-MS-OLK-AUTOFILLLOCATION:TRUE
X-MS-OLK-AUTOSTARTCHECK:FALSE
X-MS-OLK-CONFTYPE:0
END:VEVENT
BEGIN:VEVENT
DTSTART:20260927T160000Z
DTEND:20260928T160000Z
DTSTAMP:20260425T160628Z
UID:511
CLASS:PUBLIC
DESCRIPTION:
LAST-MODIFIED:20250425T022945Z
LOCATION:
ORGANIZER:
SEQUENCE:0
STATUS:CONFIRMED
SUMMARY:Dia de descanso compensatório relativo ao Dia seguinte ao Chong Chao (Bolo Lunar) (Dia de descanso compensatório)
TRANSP:TRANSPARENT
X-MICROSOFT-CDO-ALLDAYEVENT:FALSE
X-MICROSOFT-CDO-BUSYSTATUS:FREE
X-MICROSOFT-CDO-IMPORTANCE:1
X-MICROSOFT-DISALLOW-COUNTER:FALSE
X-MS-OLK-AUTOFILLLOCATION:TRUE
X-MS-OLK-AUTOSTARTCHECK:FALSE
X-MS-OLK-CONFTYPE:0
END:VEVENT
BEGIN:VEVENT
DTSTART:20260930T160000Z
DTEND:20261001T160000Z
DTSTAMP:20260425T160628Z
UID:501
CLASS:PUBLIC
DESCRIPTION:
LAST-MODIFIED:20250423T071734Z
LOCATION:
ORGANIZER:
SEQUENCE:0
STATUS:CONFIRMED
SUMMARY:Implantação da República Popular da China (Feriado obrigatório)
TRANSP:TRANSPARENT
X-MICROSOFT-CDO-ALLDAYEVENT:FALSE
X-MICROSOFT-CDO-BUSYSTATUS:FREE
X-MICROSOFT-CDO-IMPORTANCE:1
X-MICROSOFT-DISALLOW-COUNTER:FALSE
X-MS-OLK-AUTOFILLLOCATION:TRUE
X-MS-OLK-AUTOSTARTCHECK:FALSE
X-MS-OLK-CONFTYPE:0
END:VEVENT
BEGIN:VEVENT
DTSTART:20261001T160000Z
DTEND:20261002T160000Z
DTSTAMP:20260425T160628Z
UID:500
CLASS:PUBLIC
DESCRIPTION:
LAST-MODIFIED:20250423T071734Z
LOCATION:
ORGANIZER:
SEQUENCE:0
STATUS:CONFIRMED
SUMMARY:Dia seguinte à Implantação da República Popular da China (Feriado)
TRANSP:TRANSPARENT
X-MICROSOFT-CDO-ALLDAYEVENT:FALSE
X-MICROSOFT-CDO-BUSYSTATUS:FREE
X-MICROSOFT-CDO-IMPORTANCE:1
X-MICROSOFT-DISALLOW-COUNTER:FALSE
X-MS-OLK-AUTOFILLLOCATION:TRUE
X-MS-OLK-AUTOSTARTCHECK:FALSE
X-MS-OLK-CONFTYPE:0
END:VEVENT
BEGIN:VEVENT
DTSTART:20261017T160000Z
DTEND:20261018T160000Z
DTSTAMP:20260425T160628Z
UID:503
CLASS:PUBLIC
DESCRIPTION:
LAST-MODIFIED:20250423T075140Z
LOCATION:
ORGANIZER:
SEQUENCE:0
STATUS:CONFIRMED
SUMMARY:Chong Yeong (Culto dos Antepassados) (Feriado obrigatório)
TRANSP:TRANSPARENT
X-MICROSOFT-CDO-ALLDAYEVENT:FALSE
X-MICROSOFT-CDO-BUSYSTATUS:FREE
X-MICROSOFT-CDO-IMPORTANCE:1
X-MICROSOFT-DISALLOW-COUNTER:FALSE
X-MS-OLK-AUTOFILLLOCATION:TRUE
X-MS-OLK-AUTOSTARTCHECK:FALSE
X-MS-OLK-CONFTYPE:0
END:VEVENT
BEGIN:VEVENT
DTSTART:20261018T160000Z
DTEND:20261019T160000Z
DTSTAMP:20260425T160628Z
UID:509
CLASS:PUBLIC
DESCRIPTION:
LAST-MODIFIED:20250423T075409Z
LOCATION:
ORGANIZER:
SEQUENCE:0
STATUS:CONFIRMED
SUMMARY:Dia de descanso compensatório relativo ao Chong Yeong (Culto dos Antepassados) (Dia de descanso compensatório)
TRANSP:TRANSPARENT
X-MICROSOFT-CDO-ALLDAYEVENT:FALSE
X-MICROSOFT-CDO-BUSYSTATUS:FREE
X-MICROSOFT-CDO-IMPORTANCE:1
X-MICROSOFT-DISALLOW-COUNTER:FALSE
X-MS-OLK-AUTOFILLLOCATION:TRUE
X-MS-OLK-AUTOSTARTCHECK:FALSE
X-MS-OLK-CONFTYPE:0
END:VEVENT
BEGIN:VEVENT
DTSTART:20261101T160000Z
DTEND:20261102T160000Z
DTSTAMP:20260425T160628Z
UID:504
CLASS:PUBLIC
DESCRIPTION:
LAST-MODIFIED:20250423T071734Z
LOCATION:
ORGANIZER:
SEQUENCE:0
STATUS:CONFIRMED
SUMMARY:Dia de Finados (Feriado)
TRANSP:TRANSPARENT
X-MICROSOFT-CDO-ALLDAYEVENT:FALSE
X-MICROSOFT-CDO-BUSYSTATUS:FREE
X-MICROSOFT-CDO-IMPORTANCE:1
X-MICROSOFT-DISALLOW-COUNTER:FALSE
X-MS-OLK-AUTOFILLLOCATION:TRUE
X-MS-OLK-AUTOSTARTCHECK:FALSE
X-MS-OLK-CONFTYPE:0
END:VEVENT
BEGIN:VEVENT
DTSTART:20261207T160000Z
DTEND:20261208T160000Z
DTSTAMP:20260425T160628Z
UID:505
CLASS:PUBLIC
DESCRIPTION:
LAST-MODIFIED:20250423T071734Z
LOCATION:
ORGANIZER:
SEQUENCE:0
STATUS:CONFIRMED
SUMMARY:Imaculada Conceição (Feriado)
TRANSP:TRANSPARENT
X-MICROSOFT-CDO-ALLDAYEVENT:FALSE
X-MICROSOFT-CDO-BUSYSTATUS:FREE
X-MICROSOFT-CDO-IMPORTANCE:1
X-MICROSOFT-DISALLOW-COUNTER:FALSE
X-MS-OLK-AUTOFILLLOCATION:TRUE
X-MS-OLK-AUTOSTARTCHECK:FALSE
X-MS-OLK-CONFTYPE:0
END:VEVENT
BEGIN:VEVENT
DTSTART:20261219T160000Z
DTEND:20261220T160000Z
DTSTAMP:20260425T160628Z
UID:510
CLASS:PUBLIC
DESCRIPTION:
LAST-MODIFIED:20250423T071734Z
LOCATION:
ORGANIZER:
SEQUENCE:0
STATUS:CONFIRMED
SUMMARY:Dia Comemorativo do Estabelecimento da Região Administrativa Especial de Macau (Feriado obrigatório)
TRANSP:TRANSPARENT
X-MICROSOFT-CDO-ALLDAYEVENT:FALSE
X-MICROSOFT-CDO-BUSYSTATUS:FREE
X-MICROSOFT-CDO-IMPORTANCE:1
X-MICROSOFT-DISALLOW-COUNTER:FALSE
X-MS-OLK-AUTOFILLLOCATION:TRUE
X-MS-OLK-AUTOSTARTCHECK:FALSE
X-MS-OLK-CONFTYPE:0
END:VEVENT
BEGIN:VEVENT
DTSTART:20261220T160000Z
DTEND:20261221T160000Z
DTSTAMP:20260425T160628Z
UID:502
CLASS:PUBLIC
DESCRIPTION:
LAST-MODIFIED:20250423T075245Z
LOCATION:
ORGANIZER:
SEQUENCE:0
STATUS:CONFIRMED
SUMMARY:Dia de descanso compensatório relativo ao Dia Comemorativo do Estabelecimento da Região Administrativa Especial de Macau (Dia de descanso compensatório)
TRANSP:TRANSPARENT
X-MICROSOFT-CDO-ALLDAYEVENT:FALSE
X-MICROSOFT-CDO-BUSYSTATUS:FREE
X-MICROSOFT-CDO-IMPORTANCE:1
X-MICROSOFT-DISALLOW-COUNTER:FALSE
X-MS-OLK-AUTOFILLLOCATION:TRUE
X-MS-OLK-AUTOSTARTCHECK:FALSE
X-MS-OLK-CONFTYPE:0
END:VEVENT
BEGIN:VEVENT
DTSTART:20261221T160000Z
DTEND:20261222T160000Z
DTSTAMP:20260425T160628Z
UID:506
CLASS:PUBLIC
DESCRIPTION:
LAST-MODIFIED:20250423T075216Z
LOCATION:
ORGANIZER:
SEQUENCE:0
STATUS:CONFIRMED
SUMMARY:Solstício de Inverno (Feriado)
TRANSP:TRANSPARENT
X-MICROSOFT-CDO-ALLDAYEVENT:FALSE
X-MICROSOFT-CDO-BUSYSTATUS:FREE
X-MICROSOFT-CDO-IMPORTANCE:1
X-MICROSOFT-DISALLOW-COUNTER:FALSE
X-MS-OLK-AUTOFILLLOCATION:TRUE
X-MS-OLK-AUTOSTARTCHECK:FALSE
X-MS-OLK-CONFTYPE:0
END:VEVENT
BEGIN:VEVENT
DTSTART:20261223T160000Z
DTEND:20261224T160000Z
DTSTAMP:20260425T160628Z
UID:507
CLASS:PUBLIC
DESCRIPTION:
LAST-MODIFIED:20250423T071734Z
LOCATION:
ORGANIZER:
SEQUENCE:0
STATUS:CONFIRMED
SUMMARY:Véspera de Natal (Feriado)
TRANSP:TRANSPARENT
X-MICROSOFT-CDO-ALLDAYEVENT:FALSE
X-MICROSOFT-CDO-BUSYSTATUS:FREE
X-MICROSOFT-CDO-IMPORTANCE:1
X-MICROSOFT-DISALLOW-COUNTER:FALSE
X-MS-OLK-AUTOFILLLOCATION:TRUE
X-MS-OLK-AUTOSTARTCHECK:FALSE
X-MS-OLK-CONFTYPE:0
END:VEVENT
BEGIN:VEVENT
DTSTART:20261224T160000Z
DTEND:20261225T160000Z
DTSTAMP:20260425T160628Z
UID:508
CLASS:PUBLIC
DESCRIPTION:
LAST-MODIFIED:20250423T071734Z
LOCATION:
ORGANIZER:
SEQUENCE:0
STATUS:CONFIRMED
SUMMARY:Natal (Feriado)
TRANSP:TRANSPARENT
X-MICROSOFT-CDO-ALLDAYEVENT:FALSE
X-MICROSOFT-CDO-BUSYSTATUS:FREE
X-MICROSOFT-CDO-IMPORTANCE:1
X-MICROSOFT-DISALLOW-COUNTER:FALSE
X-MS-OLK-AUTOFILLLOCATION:TRUE
X-MS-OLK-AUTOSTARTCHECK:FALSE
X-MS-OLK-CONFTYPE:0
END:VEVENT
BEGIN:VEVENT
DTSTART:20261231T063000Z
DTEND:20261231T094500Z
DTSTAMP:20260425T160628Z
UID:513
CLASS:PUBLIC
DESCRIPTION:
LAST-MODIFIED:20250423T071734Z
LOCATION:
ORGANIZER:
SEQUENCE:0
STATUS:CONFIRMED
SUMMARY:Véspera do Dia da Fraternidade Universal (Tolerância de ponto)
TRANSP:TRANSPARENT
X-MICROSOFT-CDO-ALLDAYEVENT:FALSE
X-MICROSOFT-CDO-BUSYSTATUS:FREE
X-MICROSOFT-CDO-IMPORTANCE:1
X-MICROSOFT-DISALLOW-COUNTER:FALSE
X-MS-OLK-AUTOFILLLOCATION:TRUE
X-MS-OLK-AUTOSTARTCHECK:FALSE
X-MS-OLK-CONFTYPE:0
END:VEVENT
END:VCALENDAR